BEGIN:VCALENDAR
VERSION:2.0
PRODID:-//wp-events-plugin.com//7.2.3.1//EN
TZID:America/Detroit
X-WR-TIMEZONE:America/Detroit
BEGIN:VEVENT
UID:35764@arabamerica.com
DTSTART;TZID=America/Detroit:20260128T190000
DTEND;TZID=America/Detroit:20260128T213000
DTSTAMP:20260127T175323Z
URL:https://www.arabamerica.com/events/all-thats-left-of-you-sid4p-screeni
 ng/
SUMMARY:All That's Left of You SID4P Screening
DESCRIPTION:\n\n\nJoin us at the Angelika NY for a private screening of All
  That's Left of You\, a cross-generational portrayal of Palestinian steadf
 astness.\n\n\n\n\n\n\nThe Manhattan contingent of the Shut It Down 4 Pales
 tine coalition is proud to present a private screening of All That's Left
  of You at the Angelika NY. Proceeds from ticket sales will be donated to
  the Middle East Children's Alliance. For nearly 40 years\, MECA's staff a
 nd local partners have organized in Gaza and the Occupied West Bank to pro
 vide direct aid\, including food\, medical supplies\, and clothing\, in ad
 dition to financial support to educational and recreational centers. This 
 is a fantastic opportunity to come together to contribute directly to the 
 people of Palestine while supporting Palestinian art.\n\n\n
ATTACH;FMTTYPE=image/jpeg:https://www.arabamerica.com/wp-content/uploads/2
 026/01/image-10.webp
LOCATION:Angelika Film Center & Cafe - New York\, 18 West Houston Street\, 
 New York City\, NY\, 10012\, United States
GEO:40.725915;-73.997262
X-APPLE-STRUCTURED-LOCATION;VALUE=URI;X-ADDRESS=18 West Houston Street\, Ne
 w York City\, NY\, 10012\, United States;X-APPLE-RADIUS=100;X-TITLE=Angeli
 ka Film Center & Cafe - New York:geo:40.725915,-73.997262
END:VEVENT
BEGIN:VTIMEZONE
TZID:America/Detroit
X-LIC-LOCATION:America/Detroit
BEGIN:STANDARD
DTSTART:20251102T010000
TZOFFSETFROM:-0400
TZOFFSETTO:-0500
TZNAME:EST
END:STANDARD
END:VTIMEZONE
END:VCALENDAR