BEGIN:VCALENDAR
VERSION:2.0
PRODID:-//wp-events-plugin.com//7.2.3.1//EN
TZID:America/Detroit
X-WR-TIMEZONE:America/Detroit
BEGIN:VEVENT
UID:35091@arabamerica.com
DTSTART;TZID=America/Detroit:20251002T203000
DTEND;TZID=America/Detroit:20251002T220000
DTSTAMP:20250908T115638Z
URL:https://www.arabamerica.com/events/amanda-ekery-_arabe-mahrajan-tour/
SUMMARY:Amanda Ekery _Árabe Mahrajan Tour
DESCRIPTION:DALLAS\, TX\n\n\n\nTICKETS: $15\n\n&nbsp\;\n\nCelebrate the rel
 ease of Amanda Ekery’s new album and book Árabe.\n\nVocalist\, multi-in
 strumentalist\, and composer Amanda Ekery’s fourth full-length release\,
  Árabe\, explores the shared history and culture of Syrian and Mexican co
 mmunities in Texas — a reflection of her own life\, lineage\, and identi
 ty.The project includes twelve original songs alongside essays that trace 
 the stories behind each track\, touching on food\, gambling\, evil eyes\, 
 immigration law\, biracial identity\, and the complex ties between immigra
 nt entrepreneurship and workers’ rights.Drawing inspiration from mahraja
 ns — Syrian homeland gatherings similar to block parties — Árabe invi
 tes audiences into a celebration of heritage\, resilience\, and community.
 “You’ll find that the humorous\, humane punctuation that exists within
  the quietest of Árabe’s rests and spaces have been explored by this si
 nger\, songwriter\, and essayist\, along with its testimonies to the truth
 .” - Jazz Times\, 2025
ATTACH;FMTTYPE=image/jpeg:https://www.arabamerica.com/wp-content/uploads/2
 025/09/AM.jpeg
LOCATION:The Wild Detectives\, 314 W. 8th St. Dallas TX 75208\, Dallas\, TX
 \,  75208\, United States
GEO:32.747876;-96.827245
X-APPLE-STRUCTURED-LOCATION;VALUE=URI;X-ADDRESS=314 W. 8th St. Dallas TX 75
 208\, Dallas\, TX\,  75208\, United States;X-APPLE-RADIUS=100;X-TITLE=The 
 Wild Detectives:geo:32.747876,-96.827245
END:VEVENT
BEGIN:VTIMEZONE
TZID:America/Detroit
X-LIC-LOCATION:America/Detroit
BEGIN:DAYLIGHT
DTSTART:20250309T030000
TZOFFSETFROM:-0500
TZOFFSETTO:-0400
TZNAME:EDT
END:DAYLIGHT
END:VTIMEZONE
END:VCALENDAR