BEGIN:VCALENDAR
VERSION:2.0
PRODID:-//wp-events-plugin.com//7.2.3.1//EN
TZID:America/Detroit
X-WR-TIMEZONE:America/Detroit
BEGIN:VEVENT
UID:32759@arabamerica.com
DTSTART;TZID=America/Detroit:20240606T180000
DTEND;TZID=America/Detroit:20240606T210000
DTSTAMP:20240429T131951Z
URL:https://www.arabamerica.com/events/ambassador-insider-series-iraq-2/
SUMMARY:Ambassador Insider Series: Iraq
DESCRIPTION:[caption id="attachment_248536" align="alignnone" width="300"] 
 Ambassador Insider Series Iraq Event Promotional Poster[/caption]\n\n&nbsp
 \;\n\nWASHINGTON\, DC \n\nJoin us for a conversation with Iraqi Ambassado
 r Nazar Al Khirullah at the Embassy of Iraq to gain insights into the ongo
 ing discussions between the United States and Iraq regarding a potential s
 hift in the U.S. role in the country.\n\nAmidst rising tensions in the reg
 ion\, Iraq\, with its rich culture and vibrant arts community\, continues 
 to play a significant role in the Middle East. This networking event offer
 s a unique opportunity to deepen your understanding of Iraq's strategic im
 portance.\n\nFollowing the interview\, guests will have the pleasure of in
 dulging in a traditional Iraqi dinner\, further immersing themselves in th
 e country's distinctive cuisine. We look forward to seeing you at this eve
 nt.
ATTACH;FMTTYPE=image/jpeg:https://www.arabamerica.com/wp-content/uploads/2
 024/04/Ambassador-Insider-Series-Iraq-Event-Promotional-Poster-.png
LOCATION:Embassy of Iraq\, 1801 P Street NW\, Washington\, United States
GEO:38.909859;-77.041931
X-APPLE-STRUCTURED-LOCATION;VALUE=URI;X-ADDRESS=1801 P Street NW\, Washingt
 on\, United States;X-APPLE-RADIUS=100;X-TITLE=Embassy of Iraq:geo:38.90985
 9,-77.041931
END:VEVENT
BEGIN:VTIMEZONE
TZID:America/Detroit
X-LIC-LOCATION:America/Detroit
BEGIN:DAYLIGHT
DTSTART:20240310T030000
TZOFFSETFROM:-0500
TZOFFSETTO:-0400
TZNAME:EDT
END:DAYLIGHT
END:VTIMEZONE
END:VCALENDAR