BEGIN:VCALENDAR
VERSION:2.0
PRODID:-//wp-events-plugin.com//7.2.3.1//EN
TZID:America/Detroit
X-WR-TIMEZONE:America/Detroit
BEGIN:VEVENT
UID:35555@arabamerica.com
DTSTART;TZID=America/Detroit:20260326T173000
DTEND;TZID=America/Detroit:20260326T220000
DTSTAMP:20251214T022254Z
URL:https://www.arabamerica.com/events/american-task-force-on-lebanon-annu
 al-gala-dinner/
SUMMARY:American Task Force on Lebanon Annual Gala Dinner
DESCRIPTION:For four decades\, ATFL has worked to strengthen the bonds betw
 een the United States and Lebanon\, support efforts to promote stability a
 nd prosperity\, and uphold the shared values that unite our two nations. J
 oin us for an evening of reflection\, recognition\, and renewed commitmen
 t to Lebanon’s future.
ATTACH;FMTTYPE=image/jpeg:https://www.arabamerica.com/wp-content/uploads/2
 025/12/unnamed-5.png
CATEGORIES:American Task Force for Lebanon,Annual
 Event,DC,Dinner,Fundraiser,Gala,Washingtion DC
LOCATION:Andrew W Mellon Auditorium\, 1301 constitution Ave N.W.\, Washingt
 on D.C.\, 20240\, United States
GEO:38.892436;-77.031069
X-APPLE-STRUCTURED-LOCATION;VALUE=URI;X-ADDRESS=1301 constitution Ave N.W.\
 , Washington D.C.\, 20240\, United States;X-APPLE-RADIUS=100;X-TITLE=Andre
 w W Mellon Auditorium:geo:38.892436,-77.031069
END:VEVENT
BEGIN:VTIMEZONE
TZID:America/Detroit
X-LIC-LOCATION:America/Detroit
BEGIN:DAYLIGHT
DTSTART:20260308T030000
TZOFFSETFROM:-0500
TZOFFSETTO:-0400
TZNAME:EDT
END:DAYLIGHT
END:VTIMEZONE
END:VCALENDAR