BEGIN:VCALENDAR
VERSION:2.0
PRODID:-//wp-events-plugin.com//7.2.3.1//EN
TZID:America/Detroit
X-WR-TIMEZONE:America/Detroit
BEGIN:VEVENT
UID:35463@arabamerica.com
DTSTART:20251213T230000Z
DTEND:20251214T020000Z
DTSTAMP:20251211T140524Z
URL:https://www.arabamerica.com/events/an-afternoon-honoring-evin-agassi-a
 -celebration-of-legacy/
SUMMARY:An Afternoon Honoring Evin Agassi: A Celebration of Legacy
DESCRIPTION:
ATTACH;FMTTYPE=image/jpeg:https://www.arabamerica.com/wp-content/uploads/2
 025/11/Agassi12.13.25-768x960-1.webp
LOCATION:Assyrian American Cultural Organization of Arizona\, 13601 North 1
 9th Avenue\, Phoenix\, AZ\, 85029\, United States
GEO:33.60959;-112.098916
X-APPLE-STRUCTURED-LOCATION;VALUE=URI;X-ADDRESS=13601 North 19th Avenue\, P
 hoenix\, AZ\, 85029\, United States;X-APPLE-RADIUS=100;X-TITLE=Assyrian Am
 erican Cultural Organization of Arizona:geo:33.60959,-112.098916
END:VEVENT
END:VCALENDAR