BEGIN:VCALENDAR
VERSION:2.0
PRODID:-//wp-events-plugin.com//7.2.3.1//EN
TZID:America/Detroit
X-WR-TIMEZONE:America/Detroit
BEGIN:VEVENT
UID:34012@arabamerica.com
DTSTART;TZID=America/Detroit:20250201T150000
DTEND;TZID=America/Detroit:20250201T170000
DTSTAMP:20250126T231840Z
URL:https://www.arabamerica.com/events/an-afternoon-of-middle-eastern-musi
 c-with-simon-shaheen-friends/
SUMMARY:An Afternoon of Middle Eastern Music with Simon Shaheen & Friends
DESCRIPTION:ATLANTA\, GA\n\n&nbsp\;\n\nPalestinian artist Simon Shaheen exc
 els on the oud and violin\, stunning audiences as he passes easily from tr
 aditional Arab sounds to Jazz and classical Western styles. His searing te
 chnique\, melodic ingenuity and unequalled grace have earned him internati
 onal fame. Among his many distinctions\, Shaheen received the prestigious 
 National Heritage Award at the White House. He is a professor of music at 
 Berklee College of Music in Boston\, and one of the most significant music
 ians and composers of Arab music of his generation.\n\nBorn in the village
  of Tarshiha in Galilee\, Shaheen grew up surrounded by music. His father\
 , Hikmat Shaheen\, was a professor of music and master of the oud. Simon b
 egan to play at the age of four and began to study violin at the Haifa’s
  classical Western music Conservatory a year later.\n\nShaheen founded the
  Annual Arabic Music Retreat in 1997. Held each summer at Mount Holyoke Co
 llege in Massachusetts\, this weeklong intensive program of Arabic music s
 tudies draws participants from the U.S. and abroad.\n\nFeel free to visit 
 Simon Shaheen’s official YouTube channel at https://www.youtube.com/@si
 monshaheenofficial and seize the opportunity to see Simon live in Atlanta
  for a wonderful afternoon of beautiful music\, supporting a great cause.
ATTACH;FMTTYPE=image/jpeg:https://www.arabamerica.com/wp-content/uploads/2
 025/01/Fooood.png
LOCATION:St. Bartholomew’s Episcopal Church\, 1790 LaVista Road NE\, Atla
 nta\, GA\, 30329\, United States
GEO:33.818064;-84.328896
X-APPLE-STRUCTURED-LOCATION;VALUE=URI;X-ADDRESS=1790 LaVista Road NE\, Atla
 nta\, GA\, 30329\, United States;X-APPLE-RADIUS=100;X-TITLE=St. Bartholome
 w’s Episcopal Church:geo:33.818064,-84.328896
END:VEVENT
BEGIN:VTIMEZONE
TZID:America/Detroit
X-LIC-LOCATION:America/Detroit
BEGIN:STANDARD
DTSTART:20241103T010000
TZOFFSETFROM:-0400
TZOFFSETTO:-0500
TZNAME:EST
END:STANDARD
END:VTIMEZONE
END:VCALENDAR