BEGIN:VCALENDAR
VERSION:2.0
PRODID:-//wp-events-plugin.com//7.2.3.1//EN
TZID:America/Detroit
X-WR-TIMEZONE:America/Detroit
BEGIN:VEVENT
UID:31701@arabamerica.com
DTSTART;TZID=America/Detroit:20231021T133000
DTEND;TZID=America/Detroit:20231021T160000
DTSTAMP:20230919T023907Z
URL:https://www.arabamerica.com/events/an-afternoon-of-syrian-music/
SUMMARY:An Afternoon of Syrian Music
DESCRIPTION:\nDescription\nJoin us for a special program on Syrian musical 
 heritage and preservation with the Syrian Music Preservation Initiative\, 
 presented in partnership with ArtsWestchester. An interactive demonstratio
 n will be followed by a music performance in the Marilyn M. Simpson Sculpt
 ure Garden featuring the esteemed Arab chamber music ensemble Takht Al-Nag
 ham.\n\nFree with Museum admission.\nVisiting the Katonah Museum of Art\nT
 he Katonah Museum of Art is pleased to welcome its members and the public 
 to its galleries and grounds. The KMA is committed to keeping you healthy 
 and safe. To help prepare for your visit\, please review the policies and 
 other useful information below to help ensure your safety\, the quality of
  your visit\, and the security of the art on display.\n\nAdmission and Hou
 rs\n\n 	Advance tickets are recommended.\n 	Select the date you will be vi
 siting the Museum and arrive any time up to 30 minutes before closing.\n 	
 Please present your confirmation email either printed or on your phone at 
 the Guest Services Desk.\n 	Katonah Museum of Art members are suggested to
  reserve tickets\, but there will be no charge. Please note: KMA Members w
 ill be asked to show their membership card for verification upon arrival.\
 n 	Hours of operation:\n\n 	Tuesday - Saturday: 10:00 AM – 5:00 PM\n 	Su
 nday: 12:00 PM – 5:00 PM\n 	Closed Monday\n\n\n 	Docent Tours are offere
 d at 2:30 pm Daily and are free with Museum admission.\n 	Last admission t
 o the museum is 30 minutes before closing.\n 	In case of inclement weather
 \, please check katonahmuseum.org before coming to the Museum for closure
  announcements.\n 	Visitors are required to adhere to the Visitor Code of 
 Conduct (see below) and to follow Visitor Etiquette (see below).\n 	Upon 
 checking out\, please make sure to leave your browser open until you recei
 ve a confirmation that your order has been processed. If you do not receiv
 e this message or a confirmation e-mail\, your order has not been processe
 d.\n\nVisitor Code of Conduct\n\nBy reserving your timed ticket\, you agre
 e to adhere to the Visitor Code of Conduct and to play your part in keepin
 g the Museum safe for both visitors and staff.\n\nHealth and Safety\n\n 	H
 and sanitizer is available for your use when you enter the Museum and in t
 he public areas.\n 	If you are not feeling well\, please do not come to th
 e Museum. (If you become ill after purchasing a ticket\, please contact th
 e Museum to reschedule your visit.)\n 	The contact information you provide
 d when purchasing your ticket will be used if we need to notify you of any
  COVID-19 exposure.  Likewise\, should you become ill with COVID-19 follo
 wing your visit\, please notify the Museum as soon as possible.\n\nLiabili
 ty\n\nBy reserving tickets\, you confirm that you are aware that visiting 
 the Katonah Museum of Art includes risks arising from possible exposure to
  communicable diseases\, including COVID-19.  You knowingly and voluntari
 ly accept this risk and assume full responsibility for any injury\, illnes
 s\, or other loss that you may sustain as a result.\n\n&nbsp\;\n\nVisitor 
 Etiquette\n\nOur members and frequent visitors to the Katonah Museum of Ar
 t will be familiar with the following rules\, designed to make your visit 
 enjoyable and to protect the artwork\, as well as our guests. Please help
  us by following these guidelines.\n\n 	Please keep a distance of at least
  three feet from the artworks. Do not touch any artwork at any time\n 	For
  the current exhibition\, informal photography for your personal use is pe
 rmitted in the galleries. Flash is not permitted.\n 	Please silence your p
 hone and\, if you must take a call\, exit the gallery and do so in the Scu
 lpture Garden.\n 	Food\, drink\, chewing gum\, and tobacco products are no
 t allowed in the galleries.\n 	Please leave large bags or backpacks in you
 r car\, as we cannot accommodate them in the galleries at this time.\n 	Do
  not carry children on your shoulders.\n 	Strollers are allowed in the gal
 leries\, but they must be pushed by adults at all times.\n 	We ask that ch
 ildren younger than 12 be supervised by an adult at all times.\n
ATTACH;FMTTYPE=image/jpeg:https://www.arabamerica.com/wp-content/uploads/2
 023/09/Screen-Shot-2023-09-18-at-10.30.55-PM.png
CATEGORIES:Arab Artists,Arab Music,Arab Performance,Syria,Syrian,Syrian
 Culture,Syrian Music,Syrian-American
LOCATION:Katonah Museum of Art\, 134 Jay Street\, Katonah\, New York\, 1053
 6\, United States
GEO:41.262759;-73.673258
X-APPLE-STRUCTURED-LOCATION;VALUE=URI;X-ADDRESS=134 Jay Street\, Katonah\, 
 New York\, 10536\, United States;X-APPLE-RADIUS=100;X-TITLE=Katonah Museum
  of Art:geo:41.262759,-73.673258
END:VEVENT
BEGIN:VTIMEZONE
TZID:America/Detroit
X-LIC-LOCATION:America/Detroit
BEGIN:DAYLIGHT
DTSTART:20230312T030000
TZOFFSETFROM:-0500
TZOFFSETTO:-0400
TZNAME:EDT
END:DAYLIGHT
END:VTIMEZONE
END:VCALENDAR