BEGIN:VCALENDAR
VERSION:2.0
PRODID:-//wp-events-plugin.com//7.2.3.1//EN
TZID:America/Detroit
X-WR-TIMEZONE:America/Detroit
BEGIN:VEVENT
UID:31379@arabamerica.com
DTSTART;TZID=America/Detroit:20230813T180000
DTEND;TZID=America/Detroit:20230813T220000
DTSTAMP:20230711T171033Z
URL:https://www.arabamerica.com/events/an-arabian-night-in-all-white/
SUMMARY:An Arabian Night In All White
DESCRIPTION:\n\n\n\nGet ready for An Arabian Night In All White! Join us on
  Sun Aug 13 2023 at 6:00 PM EDT at 701 East Pratt Street\, Baltimore\, MD 
 21202 for a night of elegance and fun.\nDress in your best all-white attir
 e and step into a magical Arabian night. Indulge in delicious food\, enjoy
  good sips\, and dance the night away with our live DJ as you indulge in t
 he company of like-minded individuals.\nDon't miss out on this unforgettab
 le affair! Get your tickets now and join us for An Arabian Night In All Wh
 ite.\n\n\n\n\n\n\n\n\n\n\n\n\nTags\n\n\n 	United States Events\n 	Maryland
  Events\n 	Things to do in Baltimore\, MD\n 	Baltimore Parties\n 	Baltimor
 e Fashion Parties\n 	#event\n 	#night\n 	#arabian\n 	#white\n 	#all\n\n\n\
 n\n
ATTACH;FMTTYPE=image/jpeg:https://www.arabamerica.com/wp-content/uploads/2
 023/07/https___cdn.evbuc_.com_images_530829659_562026764475_1_original.jpe
 g
CATEGORIES:Arab Night
LOCATION:Rita Rossi Colwell Center\, 701 East Pratt Street\, Baltimore\, MD
 \, 21202\, United States
GEO:39.286421;-76.605822
X-APPLE-STRUCTURED-LOCATION;VALUE=URI;X-ADDRESS=701 East Pratt Street\, Bal
 timore\, MD\, 21202\, United States;X-APPLE-RADIUS=100;X-TITLE=Rita Rossi 
 Colwell Center:geo:39.286421,-76.605822
END:VEVENT
BEGIN:VTIMEZONE
TZID:America/Detroit
X-LIC-LOCATION:America/Detroit
BEGIN:DAYLIGHT
DTSTART:20230312T030000
TZOFFSETFROM:-0500
TZOFFSETTO:-0400
TZNAME:EDT
END:DAYLIGHT
END:VTIMEZONE
END:VCALENDAR