BEGIN:VCALENDAR
VERSION:2.0
PRODID:-//wp-events-plugin.com//7.2.3.1//EN
TZID:America/Detroit
X-WR-TIMEZONE:America/Detroit
BEGIN:VEVENT
UID:35222@arabamerica.com
DTSTART;TZID=America/Detroit:20251030T173000
DTEND;TZID=America/Detroit:20251030T203000
DTSTAMP:20251013T181220Z
URL:https://www.arabamerica.com/events/an-evening-in-marrakech/
SUMMARY:An Evening in Marrakech
DESCRIPTION:\n\nCHARLESTON\, SOUTH CAROLINA\n\nOverview\n\n\n\n\n\n\nSip Mo
 roccan cocktails\, enjoy live music\, savor light bites\, and experience r
 ooftop fashion moments with styled models in Charleston.\n\n\n\n\nWelcome 
 to An Evening in Marrakech!\nJoin us at The Penthouse at The Palmetto fo
 r a night inspired by the colors\, textures\, and energy of Morocco.\n\nSt
 ep into an atmosphere of elegance and artistry as An Evening in Marrakech
  blends fashion\, culture\, and creativity against the backdrop of Charle
 ston’s skyline. Expect vibrant visuals\, layered design details\, and li
 ve fashion moments that bring the spirit of Marrakech to life in an unforg
 ettable way.\n\nWhat to Expect\n\n 	Live fashion moments with models inter
 acting and showcasing curated looks throughout the evening\n 	A fashion sh
 owcase featuring stunning collections from rising designers\n 	An immersiv
 e atmosphere with visuals\, music\, and design details that transport you 
 into the spirit of Marrakech\n 	An intimate rooftop gathering with sweepin
 g views of Charleston\, blending history with modern luxury\n 	A curated l
 uxury gift bag for attendees\, featuring exclusive items\, thoughtful keep
 sakes\, and custom matchboxes\n\n&#x1f39f\; Tickets\nOne all access ticke
 t includes admission to the full evening experience: live modeling showcas
 e\, immersive atmosphere\, access to the event’s unique cultural setting
 \, and cocktails with light bites.\n\n&#x1f4cd\; Location\nThe Penthouse 
 at The Palmetto\, Charleston\, SC\n\nThe Atmosphere\nFrom Moroccan inspire
 d design touches to Charleston’s architectural elegance\, this evening o
 ffers more than fashion\, it’s a cultural experience. Whether you’re p
 assionate about style\, art\, or simply looking for an elevated night out\
 , An Evening in Marrakech promises to inspire and delight.\n\nCurated by
 : Provenance Lee Interiors\nIn Partnership with: Baxter Mill Archive\nHi
 storic Textile Archive by: Manhattan Fashion Icon Frank Cassata\nSponsore
 d by: Charleston Home + Design Magazine\nModels: Charleston Modeling Age
 ncy\n\n\n\n\n\n
ATTACH;FMTTYPE=image/jpeg:https://www.arabamerica.com/wp-content/uploads/2
 025/10/https___cdn.evbuc_.com_images_1130378923_2904591810021_1_original.j
 peg
LOCATION:The Palmetto Hotel\, 194 East Bay Street\, Charleston\, South Caro
 lina\, 29401\, United States
GEO:32.779999;-79.926927
X-APPLE-STRUCTURED-LOCATION;VALUE=URI;X-ADDRESS=194 East Bay Street\, Charl
 eston\, South Carolina\, 29401\, United States;X-APPLE-RADIUS=100;X-TITLE=
 The Palmetto Hotel:geo:32.779999,-79.926927
END:VEVENT
BEGIN:VTIMEZONE
TZID:America/Detroit
X-LIC-LOCATION:America/Detroit
BEGIN:DAYLIGHT
DTSTART:20250309T030000
TZOFFSETFROM:-0500
TZOFFSETTO:-0400
TZNAME:EDT
END:DAYLIGHT
END:VTIMEZONE
END:VCALENDAR