BEGIN:VCALENDAR
VERSION:2.0
PRODID:-//wp-events-plugin.com//7.2.3.1//EN
TZID:America/Detroit
X-WR-TIMEZONE:America/Detroit
BEGIN:VEVENT
UID:31784@arabamerica.com
DTSTART;TZID=America/Detroit:20231019T190000
DTEND;TZID=America/Detroit:20231019T210000
DTSTAMP:20231016T212010Z
URL:https://www.arabamerica.com/events/an-evening-with-hollywood-legend-as
 aad-kelada/
SUMMARY:An Evening With Hollywood Legend Asaad Kelada
DESCRIPTION:\n\nThe Lebanese American Chamber of Commerce Invites You to An
  Evening With Hollywood Legend Asaad Kelada
ATTACH;FMTTYPE=image/jpeg:https://www.arabamerica.com/wp-content/uploads/2
 023/10/unnamed-4.jpg
CATEGORIES:Arab Community,Arab creators,Arab Culture,lebanese
LOCATION:The Palazzo Grande\, 54660 Van Dyke\, Shelby Charter Township\, Mi
 chigan\, 48136\, United States
GEO:42.6959414;-83.0337508
X-APPLE-STRUCTURED-LOCATION;VALUE=URI;X-ADDRESS=54660 Van Dyke\, Shelby Cha
 rter Township\, Michigan\, 48136\, United States;X-APPLE-RADIUS=100;X-TITL
 E=The Palazzo Grande:geo:42.6959414,-83.0337508
END:VEVENT
BEGIN:VTIMEZONE
TZID:America/Detroit
X-LIC-LOCATION:America/Detroit
BEGIN:DAYLIGHT
DTSTART:20230312T030000
TZOFFSETFROM:-0500
TZOFFSETTO:-0400
TZNAME:EDT
END:DAYLIGHT
END:VTIMEZONE
END:VCALENDAR