BEGIN:VCALENDAR
VERSION:2.0
PRODID:-//wp-events-plugin.com//7.2.3.1//EN
TZID:America/Detroit
X-WR-TIMEZONE:America/Detroit
BEGIN:VEVENT
UID:31124@arabamerica.com
DTSTART;TZID=America/Detroit:20230705T130000
DTEND;TZID=America/Detroit:20230707T150000
DTSTAMP:20230702T000657Z
URL:https://www.arabamerica.com/events/ancient-egypt-garden-city-arts/
SUMMARY:Ancient Egypt: Children's Art Camps @ Garden City Arts
DESCRIPTION:GARDEN CITY\, KS\n\n&nbsp\;\n\nThis summer kiddos will explore 
 a variety of art making techniques. Workshops are designed for children ag
 es 6-16.\n\n&nbsp\;\n\nParticipants will explore the mysterious world of a
 ncient Egypt and recreate famous examples of Egyptian art.\n\n$30 ($25 for
  GCA members)\n\nInstructor: Ariana Wheet\n\n*CLASS POLICIES*\n*Pre-enroll
 ment is required for all GCA art classes! Walk-ins are welcome if there ar
 e available spots\; however\, you are NOT guaranteed a spot.\n\n*Garden Ci
 ty Arts requires payment upon enrollment for all of our classes. To save y
 our spot in a class you can either pay online or contact the gallery to ar
 range payment. If you are a Garden City Arts member and you are paying onl
 ine\, please enter code: GCA upon check out to receive your discount.\n\n*
 CANCELLATION POLICY: Garden City Arts requires a 48-hour cancellation noti
 ce prior to the start of class via phone or email for all of our classes. 
 Credit or a refund of the class fee will only be issued if the gallery rec
 eives the cancellation notification 48 hours prior to the class.
ATTACH;FMTTYPE=image/jpeg:https://www.arabamerica.com/wp-content/uploads/2
 023/05/https___cdn.evbuc_.com_images_518455599_196594363383_1_original.jpe
 g
CATEGORIES:Ancient Egypt,Arab Art,Arab Artists,Egyptian
 Civilization,Egyptian Community,Summer,Summer Camp,Summer camp for kids
LOCATION:Garden City Arts\, 318 N Main St\, Garden City\, KS\, 67846\, Unit
 ed States
GEO:37.967306;-100.873584
X-APPLE-STRUCTURED-LOCATION;VALUE=URI;X-ADDRESS=318 N Main St\, Garden City
 \, KS\, 67846\, United States;X-APPLE-RADIUS=100;X-TITLE=Garden City Arts:
 geo:37.967306,-100.873584
END:VEVENT
BEGIN:VTIMEZONE
TZID:America/Detroit
X-LIC-LOCATION:America/Detroit
BEGIN:DAYLIGHT
DTSTART:20230312T030000
TZOFFSETFROM:-0500
TZOFFSETTO:-0400
TZNAME:EDT
END:DAYLIGHT
END:VTIMEZONE
END:VCALENDAR