BEGIN:VCALENDAR
VERSION:2.0
PRODID:-//wp-events-plugin.com//7.2.3.1//EN
TZID:America/Detroit
X-WR-TIMEZONE:America/Detroit
BEGIN:VEVENT
UID:31611@arabamerica.com
DTSTART;TZID=America/Detroit:20230916T110000
DTEND;TZID=America/Detroit:20230916T123000
DTSTAMP:20230913T144034Z
URL:https://www.arabamerica.com/events/and-mentoring-arab-americas-rising-
 leaders/
SUMMARY:Arab America's Leadership Development Mentoring Event
DESCRIPTION:&nbsp\;\n\n\n\nAll awardees of Arab America Foundation's 2023 R
 ising Leaders (20 Under 20\, 30 Under 30\, and 40 Under 40) and Arab Ameri
 can young professionals are encouraged to join this special one-time mento
 ring event. Additionally\, we are honored to have members of Equitable's-M
 ENA-Employee Resource Group who will attend and provide mentoring in leade
 rship and public speaking skills to attendees.\n\n&nbsp\;\n\nREGISTER HERE
 !\n\n\n\n&nbsp\;\n\n&nbsp\;\n\n&nbsp\;\n\nVisit Arab America's blog here!
ATTACH;FMTTYPE=image/jpeg:https://www.arabamerica.com/wp-content/uploads/2
 023/08/Rising-Leaders-Zoom-Event-1.jpg
CATEGORIES:Arab Ameircan Event,Arab American,Community
END:VEVENT
BEGIN:VTIMEZONE
TZID:America/Detroit
X-LIC-LOCATION:America/Detroit
BEGIN:DAYLIGHT
DTSTART:20230312T030000
TZOFFSETFROM:-0500
TZOFFSETTO:-0400
TZNAME:EDT
END:DAYLIGHT
END:VTIMEZONE
END:VCALENDAR