BEGIN:VCALENDAR
VERSION:2.0
PRODID:-//wp-events-plugin.com//7.2.3.1//EN
TZID:America/Detroit
X-WR-TIMEZONE:America/Detroit
BEGIN:VEVENT
UID:35377@arabamerica.com
DTSTART;TZID=America/Detroit:20251118T090000
DTEND;TZID=America/Detroit:20251118T203000
DTSTAMP:20251105T094143Z
URL:https://www.arabamerica.com/events/annual-33rd-arab-u-s-policymakers-c
 onference/
SUMMARY:Annual 33rd Arab-U.S. Policymakers Conference
DESCRIPTION:\n\n\nSince 1992\, the National Council’s Annual Arab-U.S. Po
 licymakers Conference has gathered nationally and internationally renowned
  specialists for a one-of-a-kind shared experience. Arab and American lead
 ers from government\, the military\, business\, and academe share privileg
 ed information\, insight\, and recommendations in remarks and during discu
 ssions.\n\nJoin the National Council after our conference’s proceedings 
 for an unforgettable evening of classical Arab melodies\, poetry\, and sto
 rytelling with the acclaimed Torath Ensemble. The concert will take place 
 from 7 PM – 8:30 PM. Purchase tickets and register today!\n\n\n\n\n\n
CATEGORIES:#arabic
LOCATION:Ronald Reagan Building and International Trade Center\, 1300 Penns
 ylvania Ave NW\, Washington\, D.C.\, 20004\, United States
GEO:38.8940127;-77.03044899999998
X-APPLE-STRUCTURED-LOCATION;VALUE=URI;X-ADDRESS=1300 Pennsylvania Ave NW\, 
 Washington\, D.C.\, 20004\, United States;X-APPLE-RADIUS=100;X-TITLE=Ronal
 d Reagan Building and International Trade Center:geo:38.8940127,-77.030448
 99999998
END:VEVENT
BEGIN:VTIMEZONE
TZID:America/Detroit
X-LIC-LOCATION:America/Detroit
BEGIN:STANDARD
DTSTART:20251102T010000
TZOFFSETFROM:-0400
TZOFFSETTO:-0500
TZNAME:EST
END:STANDARD
END:VTIMEZONE
END:VCALENDAR