BEGIN:VCALENDAR
VERSION:2.0
PRODID:-//wp-events-plugin.com//7.2.3.1//EN
TZID:America/Detroit
X-WR-TIMEZONE:America/Detroit
BEGIN:VEVENT
UID:33348@arabamerica.com
DTSTART;TZID=America/Detroit;VALUE=DATE:20240815
DTEND;TZID=America/Detroit;VALUE=DATE:20240819
DTSTAMP:20240814T154354Z
URL:https://www.arabamerica.com/events/annual-dormition-festival-2-2/
SUMMARY:Annual Dormition Festival
DESCRIPTION:The Annual Dormition Festival is set to be a great one! We’re
  in need of volunteers to help out with various tasks such as setting up t
 he festival\, grilling\, frying\, serving ice cream and popcorn\, and more
 . Your support is essential for the success of this cherished event.\n\nCl
 ick the link below to sign up and select the day and task that best suits 
 you. Together\, let’s create an unforgettable festival experience for ev
 eryone!\n\nVolunteer Sign-Up
ATTACH;FMTTYPE=image/jpeg:https://www.arabamerica.com/wp-content/uploads/2
 024/08/Annual-Dormition-Festival-2.jpeg
LOCATION:Basilica of St. Mary\, 18100 Merriman Rd\, Livonia\, Michigan\, Un
 ited States
GEO:42.4188237;-83.35410830000001
X-APPLE-STRUCTURED-LOCATION;VALUE=URI;X-ADDRESS=18100 Merriman Rd\, Livonia
 \, Michigan\, United States;X-APPLE-RADIUS=100;X-TITLE=Basilica of St. Mar
 y:geo:42.4188237,-83.35410830000001
END:VEVENT
BEGIN:VTIMEZONE
TZID:America/Detroit
X-LIC-LOCATION:America/Detroit
BEGIN:DAYLIGHT
DTSTART:20240310T030000
TZOFFSETFROM:-0500
TZOFFSETTO:-0400
TZNAME:EDT
END:DAYLIGHT
END:VTIMEZONE
END:VCALENDAR