BEGIN:VCALENDAR
VERSION:2.0
PRODID:-//wp-events-plugin.com//7.2.3.1//EN
TZID:America/Detroit
X-WR-TIMEZONE:America/Detroit
BEGIN:VEVENT
UID:35851@arabamerica.com
DTSTART;TZID=America/Chicago:20260221T153000
DTEND;TZID=America/Chicago:20260221T193000
DTSTAMP:20260216T130945Z
URL:https://www.arabamerica.com/events/annual-ramadan-fundraiser-2/
SUMMARY:Annual Ramadan Fundraiser
DESCRIPTION:\n\n\nMOUNDS VIEW\, MN\n\nGet ready to break fast together with
  delicious food and heartwarming vibes at our Annual Ramadan Fundraiser!\n
 \n\n\n\n\n\nWelcome to the Annual Ramadan Fundraiser! Join us at Mounds 
 View Community Center on February 21\, 2026 at 3:30 PM (Central Time) fo
 r a night of giving and celebration. Let's come together to support the sc
 hool during this special month.\nRefund Policy- Refunds up to 7 days befor
 e event. Your presence will make a difference! See you there!\n\n\n
ATTACH;FMTTYPE=image/jpeg:https://www.arabamerica.com/wp-content/uploads/2
 026/02/image-11.webp
CATEGORIES:Arab,Arab America
LOCATION:Follow Mounds View Community CenterMounds View\, 5394 Edgewood Dr 
 \, Mounds View\, Minnesota\, 55112\, United States
GEO:45.104021;-93.202899
X-APPLE-STRUCTURED-LOCATION;VALUE=URI;X-ADDRESS=5394 Edgewood Dr \, Mounds 
 View\, Minnesota\, 55112\, United States;X-APPLE-RADIUS=100;X-TITLE=Follow
  Mounds View Community CenterMounds View:geo:45.104021,-93.202899
END:VEVENT
BEGIN:VTIMEZONE
TZID:America/Chicago
X-LIC-LOCATION:America/Chicago
BEGIN:STANDARD
DTSTART:20251102T010000
TZOFFSETFROM:-0500
TZOFFSETTO:-0600
TZNAME:CST
END:STANDARD
END:VTIMEZONE
END:VCALENDAR