BEGIN:VCALENDAR
VERSION:2.0
PRODID:-//wp-events-plugin.com//7.2.3.1//EN
TZID:America/Detroit
X-WR-TIMEZONE:America/Detroit
BEGIN:VEVENT
UID:30476@arabamerica.com
DTSTART;TZID=America/Detroit:20230409T000000
DTEND;TZID=America/Detroit:20230409T000000
DTSTAMP:20230213T234801Z
URL:https://www.arabamerica.com/events/annual-ramadan-fundraiser-iftar-3/
SUMMARY:Annual Ramadan Fundraiser & Iftar
DESCRIPTION:Knoxville\, TN\nOur students will be hosting our Annaul Ramadan
  Fundraiser &amp\; Iftar to benefit our school operations budget. The fund
 s will go directly to offsetting tuition assistance for worthy students an
 d helping children receive an excellent academic education in an Islamic e
 nvironment.\n\nLongtime friend and supporter Shaykh Abderraoof Alkhawaldeh
  will be joining us.\n\nDinner will be provided!
ATTACH;FMTTYPE=image/jpeg:https://www.arabamerica.com/wp-content/uploads/2
 023/02/Screen-Shot-2023-02-13-at-6.36.13-PM.png
CATEGORIES:Fundraiser,Ramadan Iftar
LOCATION:Annoor Academy of Knoxville\, 724 Foxvue Rd\, Knoxville\, TN\, 379
 22\, United States
GEO:35.891191;-84.109285
X-APPLE-STRUCTURED-LOCATION;VALUE=URI;X-ADDRESS=724 Foxvue Rd\, Knoxville\,
  TN\, 37922\, United States;X-APPLE-RADIUS=100;X-TITLE=Annoor Academy of K
 noxville:geo:35.891191,-84.109285
END:VEVENT
BEGIN:VTIMEZONE
TZID:America/Detroit
X-LIC-LOCATION:America/Detroit
BEGIN:DAYLIGHT
DTSTART:20230312T030000
TZOFFSETFROM:-0500
TZOFFSETTO:-0400
TZNAME:EDT
END:DAYLIGHT
END:VTIMEZONE
END:VCALENDAR