BEGIN:VCALENDAR
VERSION:2.0
PRODID:-//wp-events-plugin.com//7.2.3.1//EN
TZID:America/Detroit
X-WR-TIMEZONE:America/Detroit
BEGIN:VEVENT
UID:33560@arabamerica.com
DTSTART;TZID=America/Detroit:20241116T160000
DTEND;TZID=America/Detroit:20241116T160100
DTSTAMP:20240923T180951Z
URL:https://www.arabamerica.com/events/another-arabian-night-2/
SUMMARY:Another Arabian Night
DESCRIPTION:\n\nNew Tripoli\, PA\n\n\nDelicious Middle Eastern cuisine... w
 ine... beer... cocktails... All starting at 4 PM\, followed at 5 by the am
 azing Serayah Bellydancer. An event to remember for sure!\nSaturday\, Nove
 mber 16 · 4 - 4:01pm EST
ATTACH;FMTTYPE=image/jpeg:https://www.arabamerica.com/wp-content/uploads/2
 024/09/https___cdn.evbuc_.com_images_824599559_1531299583993_1_original.jp
 eg
LOCATION:Ridgeview Farm & Vineyards/ Ridgeview Farm Brewing Co.\, 8375 Carp
 et Rd\, New Tripoli\, PA\, 18066\, United States
GEO:40.62446;-75.727254
X-APPLE-STRUCTURED-LOCATION;VALUE=URI;X-ADDRESS=8375 Carpet Rd\, New Tripol
 i\, PA\, 18066\, United States;X-APPLE-RADIUS=100;X-TITLE=Ridgeview Farm &
  Vineyards/ Ridgeview Farm Brewing Co.:geo:40.62446,-75.727254
END:VEVENT
BEGIN:VTIMEZONE
TZID:America/Detroit
X-LIC-LOCATION:America/Detroit
BEGIN:STANDARD
DTSTART:20241103T010000
TZOFFSETFROM:-0400
TZOFFSETTO:-0500
TZNAME:EST
END:STANDARD
END:VTIMEZONE
END:VCALENDAR