BEGIN:VCALENDAR
VERSION:2.0
PRODID:-//wp-events-plugin.com//7.2.3.1//EN
TZID:America/Detroit
X-WR-TIMEZONE:America/Detroit
BEGIN:VEVENT
UID:33912@arabamerica.com
DTSTART;TZID=America/Detroit:20250215T083000
DTEND;TZID=America/Detroit:20250215T180000
DTSTAMP:20250108T052412Z
URL:https://www.arabamerica.com/events/anti-war-action-network-founding-co
 nference/
SUMMARY:Anti War Action Network Founding Conference
DESCRIPTION:SAINT PAUL\, MN\n\n&nbsp\;\nJoin us to meet with other activist
 s from around the country to talk about how to deepen our anti-war and 
 Palestine solidarity activism. Join us to build for more national days o
 f action. Go to antiwaractionnetwork.org for more conference information.
ATTACH;FMTTYPE=image/jpeg:https://www.arabamerica.com/wp-content/uploads/2
 025/01/sdsfs.png
LOCATION:Wilder Foundation\, 451 Lexington Parkway\, North Saint Paul\, MN\
 , United States
GEO:44.954719;-93.148588
X-APPLE-STRUCTURED-LOCATION;VALUE=URI;X-ADDRESS=451 Lexington Parkway\, Nor
 th Saint Paul\, MN\, United States;X-APPLE-RADIUS=100;X-TITLE=Wilder Found
 ation:geo:44.954719,-93.148588
END:VEVENT
BEGIN:VTIMEZONE
TZID:America/Detroit
X-LIC-LOCATION:America/Detroit
BEGIN:STANDARD
DTSTART:20241103T010000
TZOFFSETFROM:-0400
TZOFFSETTO:-0500
TZNAME:EST
END:STANDARD
END:VTIMEZONE
END:VCALENDAR