BEGIN:VCALENDAR
VERSION:2.0
PRODID:-//wp-events-plugin.com//7.2.3.1//EN
TZID:America/Detroit
X-WR-TIMEZONE:America/Detroit
BEGIN:VEVENT
UID:35065@arabamerica.com
DTSTART;TZID=America/Detroit:20250914T150000
DTEND;TZID=America/Detroit:20250914T180000
DTSTAMP:20250903T040703Z
URL:https://www.arabamerica.com/events/arab-alliance-of-indiana-summer-pic
 nic/
SUMMARY:Arab Alliance of Indiana - Summer Picnic
DESCRIPTION:Arab Alliance of Indiana - Summer Picnic\n\nCome join us for a 
 fun-filled day at Coxhall Gardens! Our annual summer picnic is back\, and 
 we can't wait to see you there. Enjoy delicious food\, engaging activities
 \, and great company. This is a fantastic opportunity to connect with fell
 ow community members and make new friends. Don't miss out on this exciting
  event - mark your calendars now!
ATTACH;FMTTYPE=image/jpeg:https://www.arabamerica.com/wp-content/uploads/2
 025/09/IMG_0471.jpeg
LOCATION:Coxhall Gardens\, 11677 Towne Road\, Carmel\, Indiana\, 46032\, Un
 ited States
GEO:39.957926;-86.198727
X-APPLE-STRUCTURED-LOCATION;VALUE=URI;X-ADDRESS=11677 Towne Road\, Carmel\,
  Indiana\, 46032\, United States;X-APPLE-RADIUS=100;X-TITLE=Coxhall Garden
 s:geo:39.957926,-86.198727
END:VEVENT
BEGIN:VTIMEZONE
TZID:America/Detroit
X-LIC-LOCATION:America/Detroit
BEGIN:DAYLIGHT
DTSTART:20250309T030000
TZOFFSETFROM:-0500
TZOFFSETTO:-0400
TZNAME:EDT
END:DAYLIGHT
END:VTIMEZONE
END:VCALENDAR