BEGIN:VCALENDAR
VERSION:2.0
PRODID:-//wp-events-plugin.com//7.2.3.1//EN
TZID:America/Detroit
X-WR-TIMEZONE:America/Detroit
BEGIN:VEVENT
UID:31350@arabamerica.com
DTSTART;TZID=America/Detroit:20230722T120000
DTEND;TZID=America/Detroit:20230722T160000
DTSTAMP:20230719T120117Z
URL:https://www.arabamerica.com/events/arab-america-team-cali-group-lunch/
SUMMARY:Arab America Team Cali: Group Lunch
DESCRIPTION:ANAHEIM\, CA\n\nMeet other Arab Americans from all around SoCal
 ! RSVP by texting (732)-731-2376 or via the Team California Whatsapp group
  by July 14!
ATTACH;FMTTYPE=image/jpeg:https://www.arabamerica.com/wp-content/uploads/2
 023/07/unnamed-2.jpeg
CATEGORIES:Arab Ameircan Event,Arab America Foundation,Arab American
 Association,California Events,Luncheon
LOCATION:Lazeez Eats\, 131 W Center Street Promenade\, Anaheim\, CA\, 92805
 \, United States
GEO:33.83428;-117.914619
X-APPLE-STRUCTURED-LOCATION;VALUE=URI;X-ADDRESS=131 W Center Street Promena
 de\, Anaheim\, CA\, 92805\, United States;X-APPLE-RADIUS=100;X-TITLE=Lazee
 z Eats:geo:33.83428,-117.914619
END:VEVENT
BEGIN:VTIMEZONE
TZID:America/Detroit
X-LIC-LOCATION:America/Detroit
BEGIN:DAYLIGHT
DTSTART:20230312T030000
TZOFFSETFROM:-0500
TZOFFSETTO:-0400
TZNAME:EDT
END:DAYLIGHT
END:VTIMEZONE
END:VCALENDAR