BEGIN:VCALENDAR
VERSION:2.0
PRODID:-//wp-events-plugin.com//7.2.3.1//EN
TZID:America/Detroit
X-WR-TIMEZONE:America/Detroit
BEGIN:VEVENT
UID:36106@arabamerica.com
DTSTART;TZID=America/Detroit:20260428T170000
DTEND;TZID=America/Detroit:20260428T193000
DTSTAMP:20260331T151653Z
URL:https://www.arabamerica.com/events/arab-american-bar-associations-2026
 -judicial-reception-2/
SUMMARY:Arab American Bar Association's 2026 Judicial Reception
DESCRIPTION:CHICAGO\, IL\n\n&nbsp\;\n\n\n\nHonoring our Judiciary and Insta
 llation of AABAR's 2025-2026 Officers and Board Members\n\n\n\n\n\n\nThe A
 rab American Bar Association of Illinois looks forward to welcoming you as
  we honor our judiciary and install our 2025-2026 Officers and Board Membe
 rs! Tickets and Sponsorships are available now and sponsorship benefits ar
 e set out below:\n\nDiamond Sponsorship: $3\,000.00\n-Twelve (12) event t
 ickets\n-Acknowledgement in AABAR email blasts and social media\n-Program 
 acknowledgement\n-Chicago Daily Law Bulletin Acknowledgement\n-Poster Boar
 d Acknowledgement\n\nPlatinum Sponsorship: $1\,500.00\n-Eight (8) event t
 ickets\n-Acknowledgement in AABAR email blasts and social media\n-Program 
 acknowledgement\n-Chicago Daily Law Bulletin Acknowledgement\n\nGold Spons
 orship: $1\,000.00\n-Five (5) event tickets\n-Acknowledgement in AABAR em
 ail blasts and social media\n-Program acknowledgement\n-Chicago Daily Law 
 Bulletin Acknowledgement\n\nSilver Sponsorship: $500.00\n-Two (2) event t
 ickets\n-Acknowledgement in AABAR email blasts and social media\n-Program 
 acknowledgement\n\nBronze Sponsorship: $250.00\n-One (1) event ticket\n-A
 cknowledgement in AABAR email blasts and social media\n-Program acknowledg
 ement\n\nhttps://www.eventbrite.com/e/arab-american-bar-associations-2026-
 judicial-reception-tickets-1981950394984?aff=ebdssbdestsearch\n\n\n
ATTACH;FMTTYPE=image/jpeg:https://www.arabamerica.com/wp-content/uploads/2
 026/03/image-8.webp
LOCATION:Alhambra Palace Restaurant\, 1240 W Randolph St\, Chicago\, Illino
 is\, 60607\, United States
GEO:41.8846194;-87.65822800000001
X-APPLE-STRUCTURED-LOCATION;VALUE=URI;X-ADDRESS=1240 W Randolph St\, Chicag
 o\, Illinois\, 60607\, United States;X-APPLE-RADIUS=100;X-TITLE=Alhambra P
 alace Restaurant:geo:41.8846194,-87.65822800000001
END:VEVENT
BEGIN:VTIMEZONE
TZID:America/Detroit
X-LIC-LOCATION:America/Detroit
BEGIN:DAYLIGHT
DTSTART:20260308T030000
TZOFFSETFROM:-0500
TZOFFSETTO:-0400
TZNAME:EDT
END:DAYLIGHT
END:VTIMEZONE
END:VCALENDAR