BEGIN:VCALENDAR
VERSION:2.0
PRODID:-//wp-events-plugin.com//7.2.3.1//EN
TZID:America/Detroit
X-WR-TIMEZONE:America/Detroit
BEGIN:VEVENT
UID:34633@arabamerica.com
DTSTART;TZID=America/Detroit;VALUE=DATE:20250704
DTEND;TZID=America/Detroit;VALUE=DATE:20250707
DTSTAMP:20250618T113916Z
URL:https://www.arabamerica.com/events/arab-american-friends-of-nazareth-p
 resents-family-reunion/
SUMMARY:Arab-American Friends of Nazareth Presents: Family Reunion
DESCRIPTION:CABO SAN LUCAS\, MEXICO\nArab-American Friends of Nazareth is t
 hrilled to announce that their family reunion is set for July 3-4-5\, 2025
 \, at a beautiful ALL-INCLUSIVE resort HACIENDA del MAR in Los Cabo\, Mexi
 co!\nMark your calendars and get ready for an unforgettable time together 
 after almost FIVE years.\n&nbsp\;\n\n&nbsp\;
ATTACH;FMTTYPE=image/jpeg:https://www.arabamerica.com/wp-content/uploads/2
 025/06/Screen-Shot-2025-06-18-at-07.40.53.png
LOCATION:Resort HACIENDA\, Cabo San Lucas\, Cabo San Lucas\, Mexico
GEO:22.882488;-109.913912
X-APPLE-STRUCTURED-LOCATION;VALUE=URI;X-ADDRESS=Cabo San Lucas\, Cabo San L
 ucas\, Mexico;X-APPLE-RADIUS=100;X-TITLE=Resort HACIENDA:geo:22.882488,-10
 9.913912
END:VEVENT
BEGIN:VTIMEZONE
TZID:America/Detroit
X-LIC-LOCATION:America/Detroit
BEGIN:DAYLIGHT
DTSTART:20250309T030000
TZOFFSETFROM:-0500
TZOFFSETTO:-0400
TZNAME:EDT
END:DAYLIGHT
END:VTIMEZONE
END:VCALENDAR