BEGIN:VCALENDAR
VERSION:2.0
PRODID:-//wp-events-plugin.com//7.2.3.1//EN
TZID:America/Detroit
X-WR-TIMEZONE:America/Detroit
BEGIN:VEVENT
UID:36101@arabamerica.com
DTSTART;TZID=America/Detroit:20260423T173000
DTEND;TZID=America/Detroit:20260423T193000
DTSTAMP:20260331T034925Z
URL:https://www.arabamerica.com/events/arab-american-heritage-mixer-tejara
 -x-awu/
SUMMARY:Arab American Heritage Mixer (Tejara x AWU)
DESCRIPTION:DEARBORN\, MI\n\n&nbsp\;\n\nJoin us for an amazing celebration 
 of Arab American culture brought to you by Tejara and Arab Women United!
 \n\nCome enjoy a panel\, specality vendors\, live performances\, and great
  opportunities to connect.\n\nSee you there!\n\nhttps://www.eventbrite.com
 /e/arab-american-heritage-mixer-tejara-x-awu-tickets-1984296369858?aff=ebd
 ssbdestsearch
ATTACH;FMTTYPE=image/jpeg:https://www.arabamerica.com/wp-content/uploads/2
 026/03/image-3-1.webp
LOCATION:Tejara - Innovation Hub\, 4921 Schaefer Road\, Dearborn\, Michigan
 \, 48126\, United States
GEO:42.323188;-83.176296
X-APPLE-STRUCTURED-LOCATION;VALUE=URI;X-ADDRESS=4921 Schaefer Road\, Dearbo
 rn\, Michigan\, 48126\, United States;X-APPLE-RADIUS=100;X-TITLE=Tejara - 
 Innovation Hub:geo:42.323188,-83.176296
END:VEVENT
BEGIN:VTIMEZONE
TZID:America/Detroit
X-LIC-LOCATION:America/Detroit
BEGIN:DAYLIGHT
DTSTART:20260308T030000
TZOFFSETFROM:-0500
TZOFFSETTO:-0400
TZNAME:EDT
END:DAYLIGHT
END:VTIMEZONE
END:VCALENDAR