BEGIN:VCALENDAR
VERSION:2.0
PRODID:-//wp-events-plugin.com//7.2.3.1//EN
TZID:America/Detroit
X-WR-TIMEZONE:America/Detroit
BEGIN:VEVENT
UID:34070@arabamerica.com
DTSTART;TZID=America/Detroit;VALUE=DATE:20250401
DTEND;TZID=America/Detroit;VALUE=DATE:20250501
DTSTAMP:20250218T135734Z
URL:https://www.arabamerica.com/events/arab-american-heritage-month-2/
SUMMARY:Arab American Heritage Month
DESCRIPTION:National Arab American Heritage Month celebrates the rich Arab 
 American heritage &amp\; history and pays tribute to the contributions of 
 Arab Americans and Arabic-speaking Americans.
ATTACH;FMTTYPE=image/jpeg:https://www.arabamerica.com/wp-content/uploads/2
 025/02/r3_image_upload_2729891_ArabAmericanHeritageMonthBannerjpg_91110553
 9.jpeg
LOCATION:Yale School of Management\, 165 Whitney Avenue\, New Haven\, CT\, 
 06511\, United States
GEO:41.314941;-72.920346
X-APPLE-STRUCTURED-LOCATION;VALUE=URI;X-ADDRESS=165 Whitney Avenue\, New Ha
 ven\, CT\, 06511\, United States;X-APPLE-RADIUS=100;X-TITLE=Yale School of
  Management:geo:41.314941,-72.920346
END:VEVENT
BEGIN:VTIMEZONE
TZID:America/Detroit
X-LIC-LOCATION:America/Detroit
BEGIN:DAYLIGHT
DTSTART:20250309T030000
TZOFFSETFROM:-0500
TZOFFSETTO:-0400
TZNAME:EDT
END:DAYLIGHT
END:VTIMEZONE
END:VCALENDAR