BEGIN:VCALENDAR
VERSION:2.0
PRODID:-//wp-events-plugin.com//7.2.3.1//EN
TZID:America/Detroit
X-WR-TIMEZONE:America/Detroit
BEGIN:VEVENT
UID:36100@arabamerica.com
DTSTART;TZID=America/Detroit:20260411T110000
DTEND;TZID=America/Detroit:20260411T133000
DTSTAMP:20260331T034414Z
URL:https://www.arabamerica.com/events/arab-american-heritage-month-3/
SUMMARY:Arab American Heritage Month
DESCRIPTION:BUFFALO\, NY\n\n&nbsp\;\n\nCelebrate the richness and diversity
  of Arab culture at the Arab American Heritage Month Celebration\, hosted 
 by Arabesques on Saturday\, April 11\, 2026\, at the Buffalo History Mu
 seum from 11:00 AM to 1:30 PM.\n\nThis vibrant community gathering honors
  Arab American Heritage Month with an immersive program that brings histor
 y\, art\, and tradition to life. Guests will experience engaging presentat
 ions on Arab heritage and the legacy of the coffeeshop as a cultural hub\,
  alongside a powerful visual storytelling performance\, “Zenobia Return
 s\,” by Nada Odeh with live music by Furkan Cat.\n\nThe celebration con
 tinues with live traditional music by Paul Hage\, an interactive dance ins
 truction including Dabke\, and a welcoming social hour set within a recrea
 ted Arabic coffeeshop atmosphere. Visitors of all ages can enjoy hands-on 
 art activities inspired by Arabic calligraphy\, curated art displays\, and
  meaningful opportunities to connect with the community.\n\nJoin us for a 
 morning of culture\, creativity\, and connection as we celebrate the stori
 es and contributions of Arab Americans. Donations are welcome and greatly 
 appreciated.\n\nCurator: Nada Odeh\n\nhttps://www.eventbrite.com/e/arab-am
 erican-heritage-month-tickets-1985883161996?aff=ebdssbdestsearch
ATTACH;FMTTYPE=image/jpeg:https://www.arabamerica.com/wp-content/uploads/2
 026/03/image-2-1.webp
LOCATION:The Buffalo History Museum\, 1 Museum Court\, Buffalo\, NY\, 14216
 \, United States
GEO:42.935429;-78.876382
X-APPLE-STRUCTURED-LOCATION;VALUE=URI;X-ADDRESS=1 Museum Court\, Buffalo\, 
 NY\, 14216\, United States;X-APPLE-RADIUS=100;X-TITLE=The Buffalo History 
 Museum:geo:42.935429,-78.876382
END:VEVENT
BEGIN:VTIMEZONE
TZID:America/Detroit
X-LIC-LOCATION:America/Detroit
BEGIN:DAYLIGHT
DTSTART:20260308T030000
TZOFFSETFROM:-0500
TZOFFSETTO:-0400
TZNAME:EDT
END:DAYLIGHT
END:VTIMEZONE
END:VCALENDAR