BEGIN:VCALENDAR
VERSION:2.0
PRODID:-//wp-events-plugin.com//7.2.3.1//EN
TZID:America/Detroit
X-WR-TIMEZONE:America/Detroit
BEGIN:VEVENT
UID:36105@arabamerica.com
DTSTART;TZID=America/Detroit:20260425T110000
DTEND;TZID=America/Detroit:20260425T200000
DTSTAMP:20260331T151027Z
URL:https://www.arabamerica.com/events/arab-american-heritage-month-cultur
 al-market/
SUMMARY:Arab American Heritage Month Cultural Market
DESCRIPTION:FAIRFAX\, VA\n\n&nbsp\;\n\n\n\nEnjoy a lively day of unique sho
 pping\, delicious treats\, and beautiful handmade items perfect for famili
 es and friends.\n\n\n\n\n\n\nHouse of Culture and Arts invites you to our 
 Arab American Heritage Month Cultural Market at Fair Oaks Mall!\n\nJoin us
  for a vibrant celebration of culture\, community\, and creativity. Enjoy 
 a lively day of unique shopping\, delicious treats\, and beautiful handmad
 e items perfect for families and friends.\n\nSaturday\, April 25 | 11:00 A
 M – 8:00 PM\nFair Oaks Mall | 11750 Fair Oaks Mall\, Fairfax\, VA 22033\
 nInfo: 703-344-5689\nEmail: Houseofcultureandart@gmail.com\n\nhttps://www.
 eventbrite.com/e/arab-american-heritage-month-cultural-market-tickets-1985
 057768221?aff=ebdssbdestsearch\n\n\n
ATTACH;FMTTYPE=image/jpeg:https://www.arabamerica.com/wp-content/uploads/2
 026/03/image-7.webp
LOCATION:11750 Fair Oaks Mall\, 11750 Fair Oaks Mall\, Fairfax\, VA\, 22033
 \, United States
GEO:38.862333;-77.358308
X-APPLE-STRUCTURED-LOCATION;VALUE=URI;X-ADDRESS=11750 Fair Oaks Mall\, Fair
 fax\, VA\, 22033\, United States;X-APPLE-RADIUS=100;X-TITLE=11750 Fair Oak
 s Mall:geo:38.862333,-77.358308
END:VEVENT
BEGIN:VTIMEZONE
TZID:America/Detroit
X-LIC-LOCATION:America/Detroit
BEGIN:DAYLIGHT
DTSTART:20260308T030000
TZOFFSETFROM:-0500
TZOFFSETTO:-0400
TZNAME:EDT
END:DAYLIGHT
END:VTIMEZONE
END:VCALENDAR