BEGIN:VCALENDAR
VERSION:2.0
PRODID:-//wp-events-plugin.com//7.2.3.1//EN
TZID:America/Detroit
X-WR-TIMEZONE:America/Detroit
BEGIN:VEVENT
UID:31907@arabamerica.com
DTSTART;TZID=America/Detroit:20231201T110000
DTEND;TZID=America/Detroit:20231201T180000
DTSTAMP:20231120T233406Z
URL:https://www.arabamerica.com/events/arab-american-national-museum-55/
SUMMARY:Arab American National Museum
DESCRIPTION:\nArab American National Museum – FREE for Kids 5 and under\,
  FREE with SNAP/EBT or WIC card\n\nFri Dec 1st 11:00am - 6:00pm\n\n\n\n\n\
 n\nAANM hosts various programming and family parties throughout the year g
 eared towards engaging youth and families with exciting and fun activities
 .\n\nCheck the calendar here: arabamericanmuseum.org/experience/youth-and-
 family/\n\nGeneral Admission – $8\n\nSeniors (age 59 and over)\, student
 s and educators with ID – $4\n\n\n\nMembers\, Museums for All\, and chil
 dren (age 5 and under) – Free\n\narabamericanmuseum.org/visit/\n\nPARKIN
 G\n\nFree\, lighted parking is available in the large municipal parking lo
 t behind the Museum. Enter the parking lot by turning north from Michigan 
 Avenue onto Neckel Street\, located just west of the Museum. Neckel dead e
 nds into the parking lot.\n\nEnter the Museum from the front door on Michi
 gan Avenue.\n\nhttps://arabamericanmuseum.org/\n\n\n\n\n
ATTACH;FMTTYPE=image/jpeg:https://www.arabamerica.com/wp-content/uploads/2
 023/11/Screen-Shot-2023-11-21-at-12.29.12-AM.png
CATEGORIES:Arab America Museum,Arab American,Arab American Museum,Arab
 American National Museum,Arab Art,Arab Culture
LOCATION:Arab American National Museum\, 13624 Michigan Avenue\, Dearborn \
 , MI\, 48126\, United States
GEO:42.3222224;-83.1766346
X-APPLE-STRUCTURED-LOCATION;VALUE=URI;X-ADDRESS=13624 Michigan Avenue\, Dea
 rborn \, MI\, 48126\, United States;X-APPLE-RADIUS=100;X-TITLE=Arab Americ
 an National Museum:geo:42.3222224,-83.1766346
END:VEVENT
BEGIN:VTIMEZONE
TZID:America/Detroit
X-LIC-LOCATION:America/Detroit
BEGIN:STANDARD
DTSTART:20231105T010000
TZOFFSETFROM:-0400
TZOFFSETTO:-0500
TZNAME:EST
END:STANDARD
END:VTIMEZONE
END:VCALENDAR