BEGIN:VCALENDAR
VERSION:2.0
PRODID:-//wp-events-plugin.com//7.2.3.1//EN
TZID:America/Detroit
X-WR-TIMEZONE:America/Detroit
BEGIN:VEVENT
UID:31527@arabamerica.com
DTSTART;TZID=America/Detroit:20231116T100000
DTEND;TZID=America/Detroit:20231116T120000
DTSTAMP:20230808T015804Z
URL:https://www.arabamerica.com/events/arab-american-womens-business-counc
 il-16th-annual-event/
SUMMARY:Arab American Women's Business Council 16th Annual Event
DESCRIPTION:"Mark your calendars for Thursday\, November 16th\, for a day o
 f inspiration\, connection\, and empowerment. Our annual signature event i
 s just around the corner\, and we're excited to bring together our incredi
 ble community of Arab American women entrepreneurs\, leaders\, and support
 ers. This year's event promises to be unforgettable\, filled with engaging
  speakers\, networking opportunities\, and meaningful connections that ref
 lect our mission and vision.\n\n&nbsp\;\n\nStay tuned for more details\, t
 icket information\, and a sneak peek at our special guests. We can't wait 
 to celebrate with you!"
ATTACH;FMTTYPE=image/jpeg:https://www.arabamerica.com/wp-content/uploads/2
 023/08/unnamed-1.jpg
CATEGORIES:Arab,Arab American Association,Arab
 Women,Business,Community,culture,Dearborn,Discussion,Lecture
LOCATION:Byblos Banquet Center\, 7258 Chase Rd.\, Dearborn\, MI\, 48126\, U
 nited States
GEO:42.344758;-83.186127
X-APPLE-STRUCTURED-LOCATION;VALUE=URI;X-ADDRESS=7258 Chase Rd.\, Dearborn\,
  MI\, 48126\, United States;X-APPLE-RADIUS=100;X-TITLE=Byblos Banquet Cent
 er:geo:42.344758,-83.186127
END:VEVENT
BEGIN:VTIMEZONE
TZID:America/Detroit
X-LIC-LOCATION:America/Detroit
BEGIN:STANDARD
DTSTART:20231105T010000
TZOFFSETFROM:-0400
TZOFFSETTO:-0500
TZNAME:EST
END:STANDARD
END:VTIMEZONE
END:VCALENDAR