BEGIN:VCALENDAR
VERSION:2.0
PRODID:-//wp-events-plugin.com//7.2.3.1//EN
TZID:America/Detroit
X-WR-TIMEZONE:America/Detroit
BEGIN:VEVENT
UID:33170@arabamerica.com
DTSTART;TZID=America/Detroit:20240724T180000
DTEND;TZID=America/Detroit:20240724T200000
DTSTAMP:20240707T155329Z
URL:https://www.arabamerica.com/events/arab-american-womens-business-counc
 il-patio-party/
SUMMARY:Arab American Women's Business Council Patio Party
DESCRIPTION:DEARBORN\, MI\n\n\nArab American Women's Business Council Patio
  Party: July 24\, 2024\, 6 PM at Malek Al-Kabob\, Dearborn\, MI. Enjoy foo
 d\, drinks\, games\, raffles\, and networking! Don't miss it!\n\n\n
ATTACH;FMTTYPE=image/jpeg:https://www.arabamerica.com/wp-content/uploads/2
 024/07/temp-14.jpg
LOCATION:Malek Al-Kabob Dearborn\, 22065 Michigan Avenue\, Dearborn\, Michi
 gan\, 48124\, United States
GEO:42.305704;-83.245218
X-APPLE-STRUCTURED-LOCATION;VALUE=URI;X-ADDRESS=22065 Michigan Avenue\, Dea
 rborn\, Michigan\, 48124\, United States;X-APPLE-RADIUS=100;X-TITLE=Malek 
 Al-Kabob Dearborn:geo:42.305704,-83.245218
END:VEVENT
BEGIN:VTIMEZONE
TZID:America/Detroit
X-LIC-LOCATION:America/Detroit
BEGIN:DAYLIGHT
DTSTART:20240310T030000
TZOFFSETFROM:-0500
TZOFFSETTO:-0400
TZNAME:EDT
END:DAYLIGHT
END:VTIMEZONE
END:VCALENDAR