BEGIN:VCALENDAR
VERSION:2.0
PRODID:-//wp-events-plugin.com//7.2.3.1//EN
TZID:America/Detroit
X-WR-TIMEZONE:America/Detroit
BEGIN:VEVENT
UID:35163@arabamerica.com
DTSTART;TZID=America/Detroit:20251004T133000
DTEND;TZID=America/Detroit:20251004T170000
DTSTAMP:20250929T152013Z
URL:https://www.arabamerica.com/events/arab-american-yacht-party/
SUMMARY:Arab American Yacht Party
DESCRIPTION:SAN FRANCISCO\, CA\n\n\n\nAll Aboard\, Habibis! &#x1f6a2\;&#x27
 28\;\n\nThe Bay Area’s FIRST Arab American Yacht Party is here! Join us 
 Saturday\, from 2-5 PM at Pier 40.Whether you're here to network\, dance\,
  or just vibe\, this is your chance to mix\, mingle\, and party in true Ar
 ab American style.\n\nWhat to Expect:\n\n 	A dynamic mix of Arabic music a
 nd Hip Hop\n 	Complimentary welcome glass of champagnne\n 	Stunning Bay Ar
 ea views—perfect for photos and unforgettable moments\n 	Exclusive netwo
 rking with fellow Arab American professionals.\n 	An upscale\, vibrant atm
 osphere filled with unforgettable moments!\n\nBoarding begins at 1:30 PM
 —be sure to arrive early and get ready to set sail!\n\nDress Code: All W
 hite – look your best and come ready to celebrate!\n\nAges 21+ only. Lim
 ited tickets available\, so don’t wait—secure yours today! No refunds\
 , just a fantastic time with great company. &#x1f389\;
ATTACH;FMTTYPE=image/jpeg:https://www.arabamerica.com/wp-content/uploads/2
 025/09/YAAA-1.jpeg
LOCATION:Pier 40\, 89 King Street \, San Francisco\, CA\, 94107\, United St
 ates
GEO:37.77994;-122.38855
X-APPLE-STRUCTURED-LOCATION;VALUE=URI;X-ADDRESS=89 King Street \, San Franc
 isco\, CA\, 94107\, United States;X-APPLE-RADIUS=100;X-TITLE=Pier 40:geo:3
 7.77994,-122.38855
END:VEVENT
BEGIN:VTIMEZONE
TZID:America/Detroit
X-LIC-LOCATION:America/Detroit
BEGIN:DAYLIGHT
DTSTART:20250309T030000
TZOFFSETFROM:-0500
TZOFFSETTO:-0400
TZNAME:EDT
END:DAYLIGHT
END:VTIMEZONE
END:VCALENDAR