BEGIN:VCALENDAR
VERSION:2.0
PRODID:-//wp-events-plugin.com//7.2.3.1//EN
TZID:America/Detroit
X-WR-TIMEZONE:America/Detroit
BEGIN:VEVENT
UID:35994@arabamerica.com
DTSTART;TZID=America/Detroit:20260411T090000
DTEND;TZID=America/Detroit:20260411T190000
DTSTAMP:20260307T205918Z
URL:https://www.arabamerica.com/events/arab-american-youth-conference/
SUMMARY:Arab American Youth Conference
DESCRIPTION:\n\n\n\n&nbsp\;\n\n\n\n\n\nCome to the Arab American Youth Conf
 erence!\nAre you an Arab American high school or college student looking t
 o connect with your community further? Looking for a space to meet esteeme
 d Arab American leaders and impressive peers? Join us for a packed day of 
 speakers\, panels\, and cultural performances.\n\nThe Arab American Youth 
 Conference will focus on cultural identity\, community advocacy\, and prof
 essional leadership. Panels include topics such as mental health\, medical
 /legal/other career paths\, public office\, and more. Don't miss the inaug
 ural conference at the Arab American National Museum this year!\n\nAAYC is
  hosted by the Gateway Arab American Initiative\, a 501(c)(3) Arab America
 n advocacy organization based out of St. Louis\, MO\, and ACCESS\, a netwo
 rk of national affiliates including the Arab American National Museum.\n\n
 \n\n
ATTACH;FMTTYPE=image/jpeg:https://www.arabamerica.com/wp-content/uploads/2
 026/03/AAYC-Flyer-pdf.jpg
LOCATION:Arab American National Museum\, 13624 Michigan Avenue\, Dearborn \
 , MI\, 48126\, United States
GEO:42.3222224;-83.1766346
X-APPLE-STRUCTURED-LOCATION;VALUE=URI;X-ADDRESS=13624 Michigan Avenue\, Dea
 rborn \, MI\, 48126\, United States;X-APPLE-RADIUS=100;X-TITLE=Arab Americ
 an National Museum:geo:42.3222224,-83.1766346
END:VEVENT
BEGIN:VTIMEZONE
TZID:America/Detroit
X-LIC-LOCATION:America/Detroit
BEGIN:DAYLIGHT
DTSTART:20260308T030000
TZOFFSETFROM:-0500
TZOFFSETTO:-0400
TZNAME:EDT
END:DAYLIGHT
END:VTIMEZONE
END:VCALENDAR