BEGIN:VCALENDAR
VERSION:2.0
PRODID:-//wp-events-plugin.com//7.2.3.1//EN
TZID:America/Detroit
X-WR-TIMEZONE:America/Detroit
BEGIN:VEVENT
UID:34868@arabamerica.com
DTSTART;TZID=America/Detroit:20251107T190000
DTEND;TZID=America/Detroit:20251107T230000
DTSTAMP:20250801T203807Z
URL:https://www.arabamerica.com/events/arab-blues-2/
SUMMARY:Arab Blues
DESCRIPTION:Chicago\, IL\n&nbsp\;\n\n21+. 9pm.\n\n&nbsp\;\n\nThe Arab Blues
  = Rami Gabriel (oud\, guitar) and Karim Nagi (riqq\, tabla)\n\n&nbsp\;\n\
 nRami Gabriel &amp\; Karim Nagi create an electro urban amalgam of Arab t
 radition and Chicago Blues. They adapt forms\, melodies\, instruments\, an
 d rhythms into an original expression of Arabic artistry with passionate m
 usicality and revolutionary attitude.\n\n&nbsp\;\n\nhttps://thearabblues.c
 om/\n\nhttps://www.instagram.com/thearabblues/
ATTACH;FMTTYPE=image/jpeg:https://www.arabamerica.com/wp-content/uploads/2
 025/08/Screenshot-2025-08-01-at-4.34.58-PM.png
LOCATION:Hungry Brain\, 2319 W Belmont Ave\, Chicago \, IL \, 60618\, Unite
 d States
GEO:41.939232;-87.686426
X-APPLE-STRUCTURED-LOCATION;VALUE=URI;X-ADDRESS=2319 W Belmont Ave\, Chicag
 o \, IL \, 60618\, United States;X-APPLE-RADIUS=100;X-TITLE=Hungry Brain:g
 eo:41.939232,-87.686426
END:VEVENT
BEGIN:VTIMEZONE
TZID:America/Detroit
X-LIC-LOCATION:America/Detroit
BEGIN:STANDARD
DTSTART:20251102T010000
TZOFFSETFROM:-0400
TZOFFSETTO:-0500
TZNAME:EST
END:STANDARD
END:VTIMEZONE
END:VCALENDAR