BEGIN:VCALENDAR
VERSION:2.0
PRODID:-//wp-events-plugin.com//7.2.3.1//EN
TZID:America/Detroit
X-WR-TIMEZONE:America/Detroit
BEGIN:VEVENT
UID:33236@arabamerica.com
DTSTART;TZID=America/Detroit:20240727T120000
DTEND;TZID=America/Detroit:20240728T000000
DTSTAMP:20240719T163848Z
URL:https://www.arabamerica.com/events/arab-chaldean-festival-at-hart-plaz
 a-in-detroit-4/
SUMMARY:Arab & Chaldean Festival at Hart Plaza in Detroit
DESCRIPTION:Thousands gather each year to experience Arab and Chaldean cult
 ure through art\, fashion\, music\, dance and more.
ATTACH;FMTTYPE=image/jpeg:https://www.arabamerica.com/wp-content/uploads/2
 024/07/arab-and-chaldean-festival-in-detroit.jpg
LOCATION:Hart Plaza\, 1 Hart Plaza\, Detroit\, MI\, United States
GEO:42.327307;-83.04426209999997
X-APPLE-STRUCTURED-LOCATION;VALUE=URI;X-ADDRESS=1 Hart Plaza\, Detroit\, MI
 \, United States;X-APPLE-RADIUS=100;X-TITLE=Hart Plaza:geo:42.327307,-83.0
 4426209999997
END:VEVENT
BEGIN:VTIMEZONE
TZID:America/Detroit
X-LIC-LOCATION:America/Detroit
BEGIN:DAYLIGHT
DTSTART:20240310T030000
TZOFFSETFROM:-0500
TZOFFSETTO:-0400
TZNAME:EDT
END:DAYLIGHT
END:VTIMEZONE
END:VCALENDAR