BEGIN:VCALENDAR
VERSION:2.0
PRODID:-//wp-events-plugin.com//7.2.3.1//EN
TZID:America/Detroit
X-WR-TIMEZONE:America/Detroit
BEGIN:VEVENT
UID:35242@arabamerica.com
DTSTART;TZID=America/New_York:20251026T110000
DTEND;TZID=America/New_York:20251026T150000
DTSTAMP:20251014T022711Z
URL:https://www.arabamerica.com/events/arab-coffee-party-new-jersey/
SUMMARY:Arab Coffee Party (New Jersey)
DESCRIPTION:Join us for a cozy and cultural Arab Coffee Party at Damasco
  Cafe!
ATTACH;FMTTYPE=image/jpeg:https://www.arabamerica.com/wp-content/uploads/2
 025/10/https___cdn.evbuc_.com_images_1145084263_2252565166733_1_original.j
 pg
CATEGORIES:Arab American,Coffee
LOCATION:Damasco Cafe\, 600 Getty Ave.\, Clifton\, NJ\, 07011\, United Stat
 es
GEO:40.889251;-74.14987
X-APPLE-STRUCTURED-LOCATION;VALUE=URI;X-ADDRESS=600 Getty Ave.\, Clifton\, 
 NJ\, 07011\, United States;X-APPLE-RADIUS=100;X-TITLE=Damasco Cafe:geo:40.
 889251,-74.14987
END:VEVENT
BEGIN:VTIMEZONE
TZID:America/New_York
X-LIC-LOCATION:America/New_York
BEGIN:DAYLIGHT
DTSTART:20250309T030000
TZOFFSETFROM:-0500
TZOFFSETTO:-0400
TZNAME:EDT
END:DAYLIGHT
END:VTIMEZONE
END:VCALENDAR