BEGIN:VCALENDAR
VERSION:2.0
PRODID:-//wp-events-plugin.com//7.2.3.1//EN
TZID:America/Detroit
X-WR-TIMEZONE:America/Detroit
BEGIN:VEVENT
UID:35594@arabamerica.com
DTSTART;TZID=America/Detroit:20251218T110000
DTEND;TZID=America/Detroit:20251218T110000
DTSTAMP:20251217T024123Z
URL:https://www.arabamerica.com/events/arab-cup-final-jordan-vs-morocco-wa
 tch-party/
SUMMARY:Arab Cup Final Jordan  vs. Morocco Watch Party
DESCRIPTION:Fairfax\, VA\n\n&nbsp\;\n\nCome &amp\; Watch Arab Cup Final Jor
 dan  vs. Morocco  at SimSim Restaurant (9998 Main St.\, Fairfax VA) for on
 ly $20 (Food Included) on Thursday December 18 at 11:00 AM
ATTACH;FMTTYPE=image/jpeg:https://www.arabamerica.com/wp-content/uploads/2
 025/12/Screen-Shot-2025-12-16-at-21.45.45.png
LOCATION:SimSim Restaurant\, 9998 Main St\, Fairfax\, VA\, United States
GEO:38.844482;-77.291313
X-APPLE-STRUCTURED-LOCATION;VALUE=URI;X-ADDRESS=9998 Main St\, Fairfax\, VA
 \, United States;X-APPLE-RADIUS=100;X-TITLE=SimSim Restaurant:geo:38.84448
 2,-77.291313
END:VEVENT
BEGIN:VTIMEZONE
TZID:America/Detroit
X-LIC-LOCATION:America/Detroit
BEGIN:STANDARD
DTSTART:20251102T010000
TZOFFSETFROM:-0400
TZOFFSETTO:-0500
TZNAME:EST
END:STANDARD
END:VTIMEZONE
END:VCALENDAR