BEGIN:VCALENDAR
VERSION:2.0
PRODID:-//wp-events-plugin.com//7.2.3.1//EN
TZID:America/Detroit
X-WR-TIMEZONE:America/Detroit
BEGIN:VEVENT
UID:35601@arabamerica.com
DTSTART;TZID=America/Chicago:20251218T100000
DTEND;TZID=America/Chicago:20251218T130000
DTSTAMP:20251217T042155Z
URL:https://www.arabamerica.com/events/arab-cup-final-watch-party-jordan-v
 s-morocco/
SUMMARY:Arab Cup Final Watch Party JORDAN VS MOROCCO
DESCRIPTION:\n\nCHICAGO\, IL\nOverview\n\n\n\n\n\nJordan vs Morocco LIVE at
  Alhambra Palace\n\n\n\n\n&#x1f1ef\;&#x1f1f4\;&#x26bd\;&#x1f1f2\;&#x1f1e6\
 ; Arab Cup Final Watch Party &#x1f1f2\;&#x1f1e6\;&#x26bd\;&#x1f1ef\;&#x1
 f1f4\;\nJordan vs Morocco LIVE at Alhambra Palace\n\nThe Arab world comes 
 together for one epic final! Join us at Alhambra Palace to watch Jordan
  vs Morocco on MASSIVE screens throughout the venue\, giving everyone a 
 perfect view of the action.\n\n&#x1f389\; EVERYONE FREE ENTRY\n\n$20 Min
 imum Spend Per Person\n&#x1f468\;&#x200d\;&#x1f469\;&#x200d\;&#x1f467\;&#x
 200d\;&#x1f466\; ALL AGES EVENT — Families Welcome\n\nWhether you’re 
 repping Jordan &#x1f1ef\;&#x1f1f4\;\, Morocco &#x1f1f2\;&#x1f1e6\;\, or ju
 st here for the vibes\, expect a packed house\, high energy\, chants\, fla
 gs\, and a true Arab football experience inside one of Chicago’s most ic
 onic venues.\n\n&#x1f4cd\; Alhambra Palace\n&#x26bd\; Arab Cup Final –
  Live Match Screening\n&#x1f4fa\; Massive screens • Music LIVE Djs • C
 ommunity • Family-friendly atmosphere\n\nCome early\, bring your family 
 and friends\, wear your colors\, and let’s make this final unforgettable
 .\n\nTABLE RESERVATIONS CLICK HERE\n\n\n\n\n\n\n\n\n\n\n\n\n
ATTACH;FMTTYPE=image/jpeg:https://www.arabamerica.com/wp-content/uploads/2
 025/12/Screenshot-2025-12-16-at-11.14.49-PM.png
CATEGORIES:#arabic
LOCATION:Alhambra Palace Restaurant\, 1240 W Randolph St\, Chicago\, Illino
 is\, 60607\, United States
GEO:41.8846194;-87.65822800000001
X-APPLE-STRUCTURED-LOCATION;VALUE=URI;X-ADDRESS=1240 W Randolph St\, Chicag
 o\, Illinois\, 60607\, United States;X-APPLE-RADIUS=100;X-TITLE=Alhambra P
 alace Restaurant:geo:41.8846194,-87.65822800000001
END:VEVENT
BEGIN:VTIMEZONE
TZID:America/Chicago
X-LIC-LOCATION:America/Chicago
BEGIN:STANDARD
DTSTART:20251102T010000
TZOFFSETFROM:-0500
TZOFFSETTO:-0600
TZNAME:CST
END:STANDARD
END:VTIMEZONE
END:VCALENDAR