BEGIN:VCALENDAR
VERSION:2.0
PRODID:-//wp-events-plugin.com//7.2.3.1//EN
TZID:America/Detroit
X-WR-TIMEZONE:America/Detroit
BEGIN:VEVENT
UID:30444@arabamerica.com
DTSTART;TZID=America/Detroit:20230603T000000
DTEND;TZID=America/Detroit:20230604T000000
DTSTAMP:20230208T131643Z
URL:https://www.arabamerica.com/events/arab-fest-fort-wayne-3/
SUMMARY:Arab Fest Fort Wayne
DESCRIPTION:Join us for Arab Fest 2023. This year we will feature music\, c
 amel rides\, a market with vendors\, characters\, dancing\, and food.\n\n&
 nbsp\;\n\n 	Time: Saturday 12:00 PM to 07:00 PM\; Sunday 12:00 PM to 5:00 
 PM\n 	Wheelchair Accessibility: Yes\n\n&nbsp\;\n\nPresented By: Arab Fest 
 - Fort Wayne\, Inc.
ATTACH;FMTTYPE=image/jpeg:https://www.arabamerica.com/wp-content/uploads/2
 023/02/292E5B38-C0C2-4EB6-9370-BA301F493E03.jpeg
CATEGORIES:Arab Fest,Arab Festival,Arab World,Arabic Event
LOCATION:Headwaters Park Pavilions\, 333 S. Clinton St\, Fort Wayne \, IN\,
  46802\, United States
GEO:41.083734;-85.138412
X-APPLE-STRUCTURED-LOCATION;VALUE=URI;X-ADDRESS=333 S. Clinton St\, Fort Wa
 yne \, IN\, 46802\, United States;X-APPLE-RADIUS=100;X-TITLE=Headwaters Pa
 rk Pavilions:geo:41.083734,-85.138412
END:VEVENT
BEGIN:VTIMEZONE
TZID:America/Detroit
X-LIC-LOCATION:America/Detroit
BEGIN:DAYLIGHT
DTSTART:20230312T030000
TZOFFSETFROM:-0500
TZOFFSETTO:-0400
TZNAME:EDT
END:DAYLIGHT
END:VTIMEZONE
END:VCALENDAR