BEGIN:VCALENDAR
VERSION:2.0
PRODID:-//wp-events-plugin.com//7.2.3.1//EN
TZID:America/Detroit
X-WR-TIMEZONE:America/Detroit
BEGIN:VEVENT
UID:36010@arabamerica.com
DTSTART;TZID=America/Detroit:20260322T110000
DTEND;TZID=America/Detroit:20260322T200000
DTSTAMP:20260311T011542Z
URL:https://www.arabamerica.com/events/arab-festival-orlando-3/
SUMMARY:ARAB FESTIVAL ORLANDO
DESCRIPTION:Experience the vibrant culture\, food\, music\, and fun of the 
 Arab Festival Orlando in person!\n\nARAB FESTIVAL ORLANDO\nJoin Us for the
  14th Annual Arab Festival in Orlando!Celebrate culture\, community\, and 
 connection at the 14th Annual Arab Festival — happening Sunday\, March 2
 2\, 2026\, at Orlando Festival Park!Experience the sights\, sounds\, and f
 lavors of the Arab world with:\nLive music and dance performances\nAuthent
 ic Middle Eastern food\nCultural tents and art displays\nKids’ fun zone 
 and family activities\nLocal vendors and craftsDate: Sunday\, March 22\, 2
 026\nLocation: Orlando Festival Park\nTime: 11:00 AM – 8:00 PM\nAdmissio
 n: FreeFor media inquiries\, sponsorships\, or volunteer opportunities\, p
 lease contact: Arab American Community Center\, Florida\narabfest.orlando@
 gmail.com\n407-360-3030\nwww.aaccfl.org/arab-festival\n\nBring your friend
 s and family for a full day of celebration\, joy\, and unity — honoring 
 the rich and diverse Arab heritage right in the heart of Orlando!The Arab 
 Festival in Orlando is open to the public and welcomes everyone to join in
  this unique celebration of heritage and harmony
ATTACH;FMTTYPE=image/jpeg:https://www.arabamerica.com/wp-content/uploads/2
 026/03/image-33.webp
LOCATION:ORLANDO FESTIVAL PARK\, 2911 E Robinson St\, Orlando\, Florida\, U
 nited States
GEO:28.546917;-81.346761
X-APPLE-STRUCTURED-LOCATION;VALUE=URI;X-ADDRESS=2911 E Robinson St\, Orland
 o\, Florida\, United States;X-APPLE-RADIUS=100;X-TITLE=ORLANDO FESTIVAL PA
 RK:geo:28.546917,-81.346761
END:VEVENT
BEGIN:VTIMEZONE
TZID:America/Detroit
X-LIC-LOCATION:America/Detroit
BEGIN:DAYLIGHT
DTSTART:20260308T030000
TZOFFSETFROM:-0500
TZOFFSETTO:-0400
TZNAME:EDT
END:DAYLIGHT
END:VTIMEZONE
END:VCALENDAR