BEGIN:VCALENDAR
VERSION:2.0
PRODID:-//wp-events-plugin.com//7.2.3.1//EN
TZID:America/Detroit
X-WR-TIMEZONE:America/Detroit
BEGIN:VEVENT
UID:34983@arabamerica.com
DTSTART;TZID=America/Detroit:20250906T220000
DTEND;TZID=America/Detroit:20250906T234500
DTSTAMP:20250813T001109Z
URL:https://www.arabamerica.com/events/arab-habibi-party/
SUMMARY:Arab Habibi Party
DESCRIPTION:LOS ANGELES\, CA\n\n&nbsp\;\n\nGet ready\, LA—the ultimate 
 Mad East 2‑Year Anniversary Party is hitting Catch One on Saturday\, S
 eptember 6!\n\nFor the first time ever\, we're bringing the heat coast‑t
 o‑coast—uniting the most electrifying vibes from across the US for an 
 unforgettable legendary night.\n\n&#x1f50a\; Venue: Catch One Located at
  4067 W Pico Blvd\, Los Angeles\, CA 90019\n\n&#x1f3a7\; Lineup: Finest DJ
  Selection DJ Stixer DJ Wave DJ Adam They’ll be delivering nonstop
  Arabic\, house\, and Afro beats—expect a journey through rhythm that se
 ts the dancefloor ablaze.\n\n&#x1f31f\; Why This Night Is Legendary Iconic
  venue: Catch One\, once Jewel’s Catch One\, has been LA’s cultural h
 eartbeat since the 1970s\, with a legacy of inclusivity\, community\, and 
 epic nights featuring Madonna\, Donna Summer\, Chaka Khan and more\n\nThis
  night marks Mad East’s first LA takeover—bringing East Coast energy 
 and national unity in dance\n\n&#x1f3b6\; What to Expect High‑energy fus
 ion of Arabic melodies\, driving house drops\, and Afro rhythms Multi-room
  vibes—explore the Disco\, Underground\, and Tavern spaces throughout th
 e night A culturally rich\, packed dancefloor rooted in Catch One’s hist
 orical legacy Mark your calendars—Mad East is shutting down LA. This isn
 ’t just a party\; it’s a milestone—a celebration of rhythm\, culture
 \, and two years of madness. Don't miss it—this September 6\, LA gets le
 gendary.\n\n&#x1f449\; Spread the word\, gather your crew\, and stay tuned
  for ticket and lineup updates. See you on the dancefloor.\n\nFor question
 s or media inquiries\, hit us up anytime!\n\n—The Mad East Crew
ATTACH;FMTTYPE=image/jpeg:https://www.arabamerica.com/wp-content/uploads/2
 025/08/arab_habibi_party.png
LOCATION:Catch One\, 4067 West Pico Boulevard \, LOS ANGELES\, CA\, 90019\,
  United States
GEO:34.047775;-118.324113
X-APPLE-STRUCTURED-LOCATION;VALUE=URI;X-ADDRESS=4067 West Pico Boulevard \,
  LOS ANGELES\, CA\, 90019\, United States;X-APPLE-RADIUS=100;X-TITLE=Catch
  One:geo:34.047775,-118.324113
END:VEVENT
BEGIN:VTIMEZONE
TZID:America/Detroit
X-LIC-LOCATION:America/Detroit
BEGIN:DAYLIGHT
DTSTART:20250309T030000
TZOFFSETFROM:-0500
TZOFFSETTO:-0400
TZNAME:EDT
END:DAYLIGHT
END:VTIMEZONE
END:VCALENDAR