BEGIN:VCALENDAR
VERSION:2.0
PRODID:-//wp-events-plugin.com//7.2.3.1//EN
TZID:America/Detroit
X-WR-TIMEZONE:America/Detroit
BEGIN:VEVENT
UID:36107@arabamerica.com
DTSTART;TZID=America/Detroit:20261003T200000
DTEND;TZID=America/Detroit:20261003T220000
DTSTAMP:20260331T182720Z
URL:https://www.arabamerica.com/events/arab-legends/
SUMMARY:Arab Legends
DESCRIPTION:A Musical Journey Through the Heart of the Middle-Eastern Herit
 age\n\nDoors Open: 7pm\n\nStep into the enchanting world of the Arab world
 ’s most iconic melodies and voices in The Arab Legends\, an exceptional 
 concert presented by Mazzika Orchestra. This unique performance pays tribu
 te to the timeless icons of Arabic music — songs that have transcended g
 enerations and continue to inspire.\n\nIt’s an evening filled with grace
  and nostalgia\, where rich orchestral arrangements breathe new life into 
 classics that still move hearts across the Arab world and beyond.\n\nWith 
 its talented soloists\, powerful choir\, and virtuoso musicians\, Mazzika 
 Orchestra brings these cultural treasures to the stage in a faithful yet m
 odern interpretation — inviting the audience to sing\, feel\, and embark
  on a musical journey together.\n\nArtistic director: Amal Guermazi
ATTACH;FMTTYPE=image/jpeg:https://www.arabamerica.com/wp-content/uploads/2
 026/03/image-42-2.webp
LOCATION:Wilshire Ebell Theatre\, 4401 West 8th Street\, Los Angeles\, CA\,
  90005\, United States
GEO:34.061219;-118.32497
X-APPLE-STRUCTURED-LOCATION;VALUE=URI;X-ADDRESS=4401 West 8th Street\, Los 
 Angeles\, CA\, 90005\, United States;X-APPLE-RADIUS=100;X-TITLE=Wilshire E
 bell Theatre:geo:34.061219,-118.32497
END:VEVENT
BEGIN:VTIMEZONE
TZID:America/Detroit
X-LIC-LOCATION:America/Detroit
BEGIN:DAYLIGHT
DTSTART:20260308T030000
TZOFFSETFROM:-0500
TZOFFSETTO:-0400
TZNAME:EDT
END:DAYLIGHT
END:VTIMEZONE
END:VCALENDAR