BEGIN:VCALENDAR
VERSION:2.0
PRODID:-//wp-events-plugin.com//7.2.3.1//EN
TZID:America/Detroit
X-WR-TIMEZONE:America/Detroit
BEGIN:VEVENT
UID:35368@arabamerica.com
DTSTART;TZID=America/Detroit:20251115T140000
DTEND;TZID=America/Detroit:20251115T170000
DTSTAMP:20251105T005836Z
URL:https://www.arabamerica.com/events/arab-massachusetts-opening-receptio
 n/
SUMMARY:Arab Massachusetts Opening Reception
DESCRIPTION:BOSTON\, MA\n\n\nArab Massachusetts: Building Community in the 
 CommonwealthOpening Reception\nIn-person at Pao Arts Center\n99 Albany St\
 , Boston\, MA 02111\n\nBECOME A SPONSOR + PURCHASE TICKETS | DOWNLOAD SPON
 SORSHIP FORM AS PDF\n\nAs we commemorate AANM’s 20th anniversary this ye
 ar\, we’re proud to launch Arab Massachusetts: Building Community in the
  Commonwealth – a traveling exhibition that honors the stories and legac
 ies of Arab Americans across Massachusetts. This exhibition is the first o
 f its kind\, shaped by voices from the community and rooted in our mission
  to preserve and uplift Arab American heritage.\n\nJoin us at the Opening 
 Reception at Pao Arts Center in Boston\, which will feature reflections fr
 om the exhibition’s curators and researchers\, along with a live musical
  performance by Hui Weng and Firas Zreik\, exploring the historic ties bet
 ween Boston’s Little Syria and present-day Chinatown.\n\nIf you cannot a
 ttend the event but would like to contribute\, click here.\n\nIf you have 
 any questions\, please contact Zahraa (Zaza) Saad at zsaad@accesscommunity
 .org
ATTACH;FMTTYPE=image/jpeg:https://www.arabamerica.com/wp-content/uploads/2
 025/11/evelyn_shakir_collection_AANMarchives.jpg
LOCATION:Pao Arts Center\, 99 Albany St\, Boston\, MA\, 02111\, United Stat
 es
GEO:42.349826;-71.060188
X-APPLE-STRUCTURED-LOCATION;VALUE=URI;X-ADDRESS=99 Albany St\, Boston\, MA\
 , 02111\, United States;X-APPLE-RADIUS=100;X-TITLE=Pao Arts Center:geo:42.
 349826,-71.060188
END:VEVENT
BEGIN:VTIMEZONE
TZID:America/Detroit
X-LIC-LOCATION:America/Detroit
BEGIN:STANDARD
DTSTART:20251102T010000
TZOFFSETFROM:-0400
TZOFFSETTO:-0500
TZNAME:EST
END:STANDARD
END:VTIMEZONE
END:VCALENDAR