BEGIN:VCALENDAR
VERSION:2.0
PRODID:-//wp-events-plugin.com//7.2.3.1//EN
TZID:America/Detroit
X-WR-TIMEZONE:America/Detroit
BEGIN:VEVENT
UID:34204@arabamerica.com
DTSTART;TZID=America/Detroit:20250321T191500
DTEND;TZID=America/Detroit:20250321T210000
DTSTAMP:20250318T193901Z
URL:https://www.arabamerica.com/events/arab-mothers-day-iftar-dinner/
SUMMARY:Arab Mother's Day Iftar Dinner
DESCRIPTION:HOUSTON\, TX\n\nAbout this event\n\n\n\n\n\n\n\nAll are welcome
  to join! Tickets are free\, but must be reserved.\n\nThe AAEF Center for 
 Arab Studies at UH warmly invites you to Arab Mother's Day Iftar Dinner wi
 th musical guests Zaytounat.\n\n\n\n\n\n
ATTACH;FMTTYPE=image/jpeg:https://www.arabamerica.com/wp-content/uploads/2
 025/03/Screenshot-2025-03-18-124337.jpg
LOCATION:Stephen Power Farish Hall (FH)\, Rm 101\, Houston\, TX\, 77204\, U
 nited States
GEO:29.752933;-95.183731
X-APPLE-STRUCTURED-LOCATION;VALUE=URI;X-ADDRESS=Rm 101\, Houston\, TX\, 772
 04\, United States;X-APPLE-RADIUS=100;X-TITLE=Stephen Power Farish Hall (F
 H):geo:29.752933,-95.183731
END:VEVENT
BEGIN:VTIMEZONE
TZID:America/Detroit
X-LIC-LOCATION:America/Detroit
BEGIN:DAYLIGHT
DTSTART:20250309T030000
TZOFFSETFROM:-0500
TZOFFSETTO:-0400
TZNAME:EDT
END:DAYLIGHT
END:VTIMEZONE
END:VCALENDAR