BEGIN:VCALENDAR
VERSION:2.0
PRODID:-//wp-events-plugin.com//7.2.3.1//EN
TZID:America/Detroit
X-WR-TIMEZONE:America/Detroit
BEGIN:VEVENT
UID:36121@arabamerica.com
DTSTART;TZID=America/Detroit:20260410T173000
DTEND;TZID=America/Detroit:20260410T220000
DTSTAMP:20260401T002604Z
URL:https://www.arabamerica.com/events/arab-night/
SUMMARY:Arab Night
DESCRIPTION:Cleveland\nCleveland State\nUniversity Student Center Ballroom\
 nDoors Open 5:30 PM | Event Ends 10\nPM\nDress Code: Cultural/Semi-Formal
CATEGORIES:Arab,Arab American,Community,culture,Music/Folk/World
LOCATION:Cleveland State University\, 2121 Euclid Ave\, Cleveland\, Ohio\, 
 United States
GEO:41.5024529;-81.67527050000001
X-APPLE-STRUCTURED-LOCATION;VALUE=URI;X-ADDRESS=2121 Euclid Ave\, Cleveland
 \, Ohio\, United States;X-APPLE-RADIUS=100;X-TITLE=Cleveland State Univers
 ity:geo:41.5024529,-81.67527050000001
END:VEVENT
BEGIN:VTIMEZONE
TZID:America/Detroit
X-LIC-LOCATION:America/Detroit
BEGIN:DAYLIGHT
DTSTART:20260308T030000
TZOFFSETFROM:-0500
TZOFFSETTO:-0400
TZNAME:EDT
END:DAYLIGHT
END:VTIMEZONE
END:VCALENDAR