BEGIN:VCALENDAR
VERSION:2.0
PRODID:-//wp-events-plugin.com//7.2.3.1//EN
TZID:America/Detroit
X-WR-TIMEZONE:America/Detroit
BEGIN:VEVENT
UID:35663@arabamerica.com
DTSTART;TZID=America/Detroit:20260116T210000
DTEND;TZID=America/Detroit:20260116T233000
DTSTAMP:20260107T011801Z
URL:https://www.arabamerica.com/events/arab-singles-mixer-new-york-2/
SUMMARY:Arab Singles Mixer - New York
DESCRIPTION:\nOverview\n\n\n\n\n\nMeet fun Arab singles in NYC\, ages 20-50
 \, Social &amp\; DJ Party\n\n\n\nArab Singles Event - New York (Age 25-45)
 \nLooking to meet cool Arab singles in the Big Apple? Join us for a fun in
 -person gathering where you can connect\, chat\, and maybe find that speci
 al someone! It's the perfect chance to mingle with others aged 25-45 in a 
 relaxed and friendly setting. Don’t miss out on a night of great vibes a
 nd new connections right here in New York!\n\n\n\n\n\n
ATTACH;FMTTYPE=image/jpeg:https://www.arabamerica.com/wp-content/uploads/2
 026/01/https___cdn.evbuc_.com_images_1174092924_61107036827_1_original.jpe
 g
LOCATION:The Rose\, 160 West 25th Street\, New York\, NY\, 10001\, United S
 tates
GEO:40.744982;-73.994234
X-APPLE-STRUCTURED-LOCATION;VALUE=URI;X-ADDRESS=160 West 25th Street\, New 
 York\, NY\, 10001\, United States;X-APPLE-RADIUS=100;X-TITLE=The Rose:geo:
 40.744982,-73.994234
END:VEVENT
BEGIN:VTIMEZONE
TZID:America/Detroit
X-LIC-LOCATION:America/Detroit
BEGIN:STANDARD
DTSTART:20251102T010000
TZOFFSETFROM:-0400
TZOFFSETTO:-0500
TZNAME:EST
END:STANDARD
END:VTIMEZONE
END:VCALENDAR