BEGIN:VCALENDAR
VERSION:2.0
PRODID:-//wp-events-plugin.com//7.2.3.1//EN
TZID:America/Detroit
X-WR-TIMEZONE:America/Detroit
BEGIN:VEVENT
UID:35207@arabamerica.com
DTSTART;TZID=America/New_York:20251011T180000
DTEND;TZID=America/New_York:20251011T210000
DTSTAMP:20251008T034502Z
URL:https://www.arabamerica.com/events/arab-singles-mixer-new-york/
SUMMARY:Arab Singles Mixer (New York)
DESCRIPTION:NEW YORK\, NY\n\nJoin Arab Socials for a fun singles mixer with
  drinks\, dj\, and a matching game!\n\nDJ + Mixer + Matchbox\n\nWe are col
 laborating with Matchbox\; a system that you will use at the event to matc
 h you with your perfect match at the event! 1 drink included
LOCATION:The Rose\, 160 West 25th Street \, New York\, New York\, 10001\, U
 nited States
GEO:40.744982;-73.994234
X-APPLE-STRUCTURED-LOCATION;VALUE=URI;X-ADDRESS=160 West 25th Street \, New
  York\, New York\, 10001\, United States;X-APPLE-RADIUS=100;X-TITLE=The Ro
 se:geo:40.744982,-73.994234
END:VEVENT
BEGIN:VTIMEZONE
TZID:America/New_York
X-LIC-LOCATION:America/New_York
BEGIN:DAYLIGHT
DTSTART:20250309T030000
TZOFFSETFROM:-0500
TZOFFSETTO:-0400
TZNAME:EDT
END:DAYLIGHT
END:VTIMEZONE
END:VCALENDAR