BEGIN:VCALENDAR
VERSION:2.0
PRODID:-//wp-events-plugin.com//7.2.3.1//EN
TZID:America/Detroit
X-WR-TIMEZONE:America/Detroit
BEGIN:VEVENT
UID:35209@arabamerica.com
DTSTART;TZID=America/New_York:20251128T100000
DTEND;TZID=America/New_York:20251130T234500
DTSTAMP:20251008T035807Z
URL:https://www.arabamerica.com/events/arab-socials-girls-getaway-in-miami
 /
SUMMARY:Arab Socials Girls Getaway in Miami
DESCRIPTION:MIAMI\, FL\n\nArab Socials Girls Getaway\n\nCome join us for a 
 fabulous girls' getaway on South Beach! Get ready to relax\, unwind\, and 
 have a blast with fellow Arab socials. This in-person event is the perfect
  opportunity to make new friends\, enjoy delicious food\, and create unfor
 gettable memories. Whether you're looking to dance the night away or simpl
 y chill by the pool\, this getaway has something for everyone. Don't miss 
 out on this amazing experience!\n\nWhat the ticket includes:\n\n 	A spot i
 n a shared room in an apartment\n 	Apartment snacks\n 	Yacht Party\n 	Beac
 h day\n 	Pool day\n 	Night party\n 	Botox Party\n 	and much more...\n\nWha
 t the ticket does not include:\n\n 	Personal transportation\n 	Meals\n\nFu
 ll schedule Coming Soon!\n\nTo avoid event brite fees\, you can zelle $1\,
 000 to - arabpayments@gmail.com
ATTACH;FMTTYPE=image/jpeg:https://www.arabamerica.com/wp-content/uploads/2
 025/10/Screen-Shot-2025-10-07-at-11.59.46-PM.png
LOCATION:The Bass\, 2100 Collins Avenue \, Miami Beach\, Florida \,  33139\
 , United States
GEO:25.796961;-80.128552
X-APPLE-STRUCTURED-LOCATION;VALUE=URI;X-ADDRESS=2100 Collins Avenue \, Miam
 i Beach\, Florida \,  33139\, United States;X-APPLE-RADIUS=100;X-TITLE=The
  Bass:geo:25.796961,-80.128552
END:VEVENT
BEGIN:VTIMEZONE
TZID:America/New_York
X-LIC-LOCATION:America/New_York
BEGIN:STANDARD
DTSTART:20251102T010000
TZOFFSETFROM:-0400
TZOFFSETTO:-0500
TZNAME:EST
END:STANDARD
END:VTIMEZONE
END:VCALENDAR