BEGIN:VCALENDAR
VERSION:2.0
PRODID:-//wp-events-plugin.com//7.2.3.1//EN
TZID:America/Detroit
X-WR-TIMEZONE:America/Detroit
BEGIN:VEVENT
UID:35155@arabamerica.com
DTSTART;TZID=America/New_York:20251013T150000
DTEND;TZID=America/New_York:20251013T180000
DTSTAMP:20250924T185815Z
URL:https://www.arabamerica.com/events/arab-socials-ooo-hangout/
SUMMARY:Arab Socials OOO Hangout
DESCRIPTION:NEW YORK\, NY\n\nWelcome to the Arab Socials OOO Hangout! Join
  us for a fun in-person gathering at Hex and Company. This event is all a
 bout chilling\, playing games\, and connecting with Arab Socials. Whether 
 you're a seasoned pro or a newbie\, everyone is welcome to come and hang o
 ut. So mark your calendars and get ready for a laid-back time with good vi
 bes. See you there!
ATTACH;FMTTYPE=image/jpeg:https://www.arabamerica.com/wp-content/uploads/2
 025/09/Screen-Shot-2025-09-24-at-2.57.30-PM.png
LOCATION:Hex and Company\, 801 Broadway\, New York \, New York\, 10003\, Un
 ited States
GEO:40.732613;-73.991412
X-APPLE-STRUCTURED-LOCATION;VALUE=URI;X-ADDRESS=801 Broadway\, New York \, 
 New York\, 10003\, United States;X-APPLE-RADIUS=100;X-TITLE=Hex and Compan
 y:geo:40.732613,-73.991412
END:VEVENT
BEGIN:VTIMEZONE
TZID:America/New_York
X-LIC-LOCATION:America/New_York
BEGIN:DAYLIGHT
DTSTART:20250309T030000
TZOFFSETFROM:-0500
TZOFFSETTO:-0400
TZNAME:EDT
END:DAYLIGHT
END:VTIMEZONE
END:VCALENDAR