BEGIN:VCALENDAR
VERSION:2.0
PRODID:-//wp-events-plugin.com//7.2.3.1//EN
TZID:America/Detroit
X-WR-TIMEZONE:America/Detroit
BEGIN:VEVENT
UID:35996@arabamerica.com
DTSTART;TZID=America/Detroit:20260323T120000
DTEND;TZID=America/Detroit:20260323T133000
DTSTAMP:20260307T220521Z
URL:https://www.arabamerica.com/events/arab-womens-revolutionary-art-betwe
 en-singularities-and-multitudes/
SUMMARY:Arab Women’s Revolutionary Art: Between Singularities and Multitu
 des
DESCRIPTION:In Arab Women’s Revolutionary Art: Between Singularities and
  Multitudes\, Professor Nevine El Nossery examines women’s revolutionary
  and postrevolutionary artistic works from Egypt\, Tunisia\, Morocco\, and
  Algeria. She unpacks the unique relationship between different artistic m
 odalities and political expression\, arguing that art\, documentation\, an
 d archives have preserved the spirit of the revolution that was sparked in
  2011.
ATTACH;FMTTYPE=image/jpeg:https://www.arabamerica.com/wp-content/uploads/2
 026/03/image-43.webp
CATEGORIES:Arab Art,Arab Author,Arab Feminist,Book Discussion,Book
 Talk,Books/Literature,DC
LOCATION:Maria & Alberto De La Cruz Art Gallery\, 3535 Prospect Street Nort
 hwest\, Washington\, DC\, 20007\, United States
GEO:38.905964;-77.070099
X-APPLE-STRUCTURED-LOCATION;VALUE=URI;X-ADDRESS=3535 Prospect Street Northw
 est\, Washington\, DC\, 20007\, United States;X-APPLE-RADIUS=100;X-TITLE=M
 aria & Alberto De La Cruz Art Gallery:geo:38.905964,-77.070099
END:VEVENT
BEGIN:VTIMEZONE
TZID:America/Detroit
X-LIC-LOCATION:America/Detroit
BEGIN:DAYLIGHT
DTSTART:20260308T030000
TZOFFSETFROM:-0500
TZOFFSETTO:-0400
TZNAME:EDT
END:DAYLIGHT
END:VTIMEZONE
END:VCALENDAR