BEGIN:VCALENDAR
VERSION:2.0
PRODID:-//wp-events-plugin.com//7.2.3.1//EN
TZID:America/Detroit
X-WR-TIMEZONE:America/Detroit
BEGIN:VEVENT
UID:33843@arabamerica.com
DTSTART;TZID=America/Detroit:20250202T070000
DTEND;TZID=America/Detroit:20250202T170000
DTSTAMP:20241211T203522Z
URL:https://www.arabamerica.com/events/arabian-days-bazaar/
SUMMARY:Arabian Days Bazaar
DESCRIPTION:Immerse yourself in the enchanting world of Arabia at the Arabi
 an Days Bazaar\, a vibrant and captivating marketplace that transports you
  to the heart of the Middle East. Discover a treasure trove of authentic A
 rabian goods\, from exquisite jewelry and intricate handicrafts to aromati
 c spices and delicious delicacies.\n\nExperience the magic of Arabian cult
 ure:\n\n 	Authentic Arabian goods: Explore a wide array of authentic Arabi
 an products\, including traditional clothing\, jewelry\, handicrafts\, spi
 ces\, and more.\n 	Delicious cuisine: Indulge in a culinary journey with a
  variety of authentic Arabian dishes\, from savory kebabs to sweet pastrie
 s.\n 	Cultural performances: Enjoy captivating cultural performances\, inc
 luding traditional dance and music\, that showcase the rich heritage of Ar
 abia.\n 	Family-friendly atmosphere: Bring the whole family to enjoy a fun
  and educational experience.\n\nJoin us every weekend starting February 2n
 d at Masjid As Sabur\, 4926 15th Avenue\, Sacramento\, CA 95820.\n\nDon't 
 miss this opportunity to experience the magic of Arabia!
ATTACH;FMTTYPE=image/jpeg:https://www.arabamerica.com/wp-content/uploads/2
 024/12/https-cdn.evbuc_.com-images-915496363-228703960127-1-original.20241
 211-101524.jpeg
LOCATION:Masjid As Sabur\, 4926 15th Avenue\, Sacramento\, CA\, 95820\, Uni
 ted States
GEO:38.538375;-121.448046
X-APPLE-STRUCTURED-LOCATION;VALUE=URI;X-ADDRESS=4926 15th Avenue\, Sacramen
 to\, CA\, 95820\, United States;X-APPLE-RADIUS=100;X-TITLE=Masjid As Sabur
 :geo:38.538375,-121.448046
END:VEVENT
BEGIN:VTIMEZONE
TZID:America/Detroit
X-LIC-LOCATION:America/Detroit
BEGIN:STANDARD
DTSTART:20241103T010000
TZOFFSETFROM:-0400
TZOFFSETTO:-0500
TZNAME:EST
END:STANDARD
END:VTIMEZONE
END:VCALENDAR