BEGIN:VCALENDAR
VERSION:2.0
PRODID:-//wp-events-plugin.com//7.2.3.1//EN
TZID:America/Detroit
X-WR-TIMEZONE:America/Detroit
BEGIN:VEVENT
UID:31275@arabamerica.com
DTSTART;TZID=America/Detroit:20230703T220000
DTEND;TZID=America/Detroit:20230704T030000
DTSTAMP:20230702T000657Z
URL:https://www.arabamerica.com/events/arabian-night-d-c/
SUMMARY:ARABIAN NIGHT (D.C.)
DESCRIPTION:\n\n&nbsp\;\n\n\n\n\n\n\n\n\n\n\n\n\n\n\n\n\n\n\n\n\n\n\n\n\n\n
 \n\n\nARABIAN NIGHT @KOI D.C.\nFood\, Drinks\, Hookah\, Arabian DJ\, Dance
 \, Music\nPARTY:\n\nFrom Marhaba to Morocco\, everyone is invited to dance
  the night away with the best Arabic DJs in town. Enjoy food\, drinks\, co
 cktails\, mock tails\, and hookah along with Arabic music.\n\nYou cannot a
 fford to miss this experience. This party is going to hAve an exquisite vi
 be.\n\nDJ:\n\nGuest DJ DANNY from Washington D.C.\n\nVENUE:\n\nYou'll be
  partying at KOI NIGHTCLUB (1413 K St NW Washington D.C. 20001). With high
 -quality festival lighting\, lasers\, performers and a massive sound syste
 m\, this venue is already stunning. Premium Bar Will Be open for purchase.
 \n\nTIME:\n\nDoors open at 10PM and party goes on till 3.00AM.\n\nTICKETS:
 \n\nTicket price does not include any drink or food\, the ticket price is 
 for ENTRY ONLY. Early Bird tickets start at $20. General Admission\, Skip 
 the line\, Group discounts and VIP Package tickets available. Purchase tic
 kets fast before they increase and sell out!\n\nGUIDELINES &amp\; POLICIES
 :\n\nAge Requirement: Must be 21 years of age or older.\n\nID to Enter: Br
 ing a valid ID that matches purchaser's name.\n\nTime: Doors open at 6pm\n
 \nVaccination: Is NOT required to enter.\n\nNo Refunds\, All Sales Final: 
 Unforeseen circumstances beyond our control will not be grounds for a refu
 nd\, including but not limited to the following: local or national weather
  conditions\, natural disasters\, waiting in lines\, extended waits in lin
 es\, family emergencies\, medical emergencies including COVID-19 results\,
  employment issues including layoffs\, traffic\, parking\, public or priva
 te transportation issues\, etc. If you purchased for the incorrect date\, 
 location\, event\, etc\, we are not obligated to provide a refund\, credit
 \, exchange or transfer. We reserve the right to refuse entry to any ticke
 t-holder\, without a refund\, for any reason\, including but not limited t
 o: disorderly behavior\, failing to comply with the rules of the venue\, i
 ncorrect attire\, intoxication\, venue capacity\, breach of security\, and
  other restrictions. You are aware that Talent is subject to change withou
 t notice\, which is not grounds for a refund. You are aware that amenities
  promised are not guaranteed and are not grounds for a refund. Dissatisfac
 tion with any aspect of the event is not grounds for a refund\, including 
 but not limited to: music\, DJ(s)\, decorations or lack thereof\, party fa
 vors or lack thereof\, beverages or lack thereof\, alcohol selection\, bar
  staff\, food availability and selection\, fellow patrons/attendees\, venu
 e staff\, event staff\, security\, performances\, ambiance\, amenities\, v
 enue\, check-in process\, seating or lack of seating\, wait in lines\, eme
 rgency closures of event\, delayed commencing of events\, early ending of 
 events\, etc.\n\nSupport: If you encounter a problem at the event\, a comp
 laint must be filed within 5 calendar days following the date of the event
 \; failure to contact within the 5-day period will be a complete waiver of
  your right to request compensation whether monetary or otherwise. You can
  reach us at events.fomoo@gmail.com\n\nEvent Booking: By purchasing a tick
 et\, you're entitled to entry to event you're purchasing it for\; with its
  corresponding date\, start time\, and end time. If you do not show up to 
 the event\, you understand that you are forfeiting your ticket(s) and ther
 efore your ticketing fee (the entirety of what you paid) will not be retur
 ned to you. You are fully liable for your purchase whether or not you are 
 able to attend the event.\n\nEvent Cancellations: If the event is cancelle
 d\, you will be refunded the face value of your ticket.\n\nRelease of Liab
 ility: By purchasing the tickets through Eventbrite\, you hereby release a
 nd forever discharge us from any liability or claims for damages that may 
 arise as a result of your attendance and participation at the event\, incl
 uding claims for personal injury\, or damage to personal property\, or any
  other claims for negligence on our part. It is hereby understood that the
  purchase of tickets by you and your participation in the events shall not
  be construed as an assumption on our part of responsibility\, liability\,
  or control of the events.\n\nIndemnity: By Purchasing tickets for this ev
 ent\, you agree to indemnify and hold us harmless from and against all cla
 ims\, damages\, losses\, and expenses\, including reasonable attorney’s 
 fees arising out of or by reason of complying with this Indemnity Clause. 
 You hereby release\, remise\, and forever discharge us from all manner of 
 actions\, causes of actions\, suits\, debts\, judgments\, executions\, cla
 ims\, demands whatsoever\, known or unknown\, in law or equity\, which you
  have ever had\, now have\, may have\, or claim against us.\n\nBy placing 
 an order\, you are confirming that you received this policy and are agreei
 ng to abide by the clauses within. This policy is a binding contract betwe
 en you and the venue.\n\n\n\n\n\n\n\n\n\n\n\n\n\nTags\n\n\n 	United States
  Events\n 	District of Columbia Events\n 	Things to do in Washington\, DC\
 n 	Washington Parties\n 	Washington Music Parties\n 	#mediterranean\n 	#mo
 rocco\n 	#syria\n 	#middleeastern\n 	#arabian_nights\n 	#djdanny\n 	#moroc
 canmusic\n 	#marhaba\n 	#arabiannightindc\n 	#arabiannightindmv\n\n\n
ATTACH;FMTTYPE=image/jpeg:https://www.arabamerica.com/wp-content/uploads/2
 023/06/https___cdn.evbuc_.com_images_535537499_889273663133_1_original.jpe
 g
CATEGORIES:Arab Ameircan Event,Arab American,Arab Night
LOCATION:1413 K St NW\, 1413 K Street Northwest\, Washington\, DC \, 20005\
 , United States
GEO:38.902923;-77.032687
X-APPLE-STRUCTURED-LOCATION;VALUE=URI;X-ADDRESS=1413 K Street Northwest\, W
 ashington\, DC \, 20005\, United States;X-APPLE-RADIUS=100;X-TITLE=1413 K 
 St NW:geo:38.902923,-77.032687
END:VEVENT
BEGIN:VTIMEZONE
TZID:America/Detroit
X-LIC-LOCATION:America/Detroit
BEGIN:DAYLIGHT
DTSTART:20230312T030000
TZOFFSETFROM:-0500
TZOFFSETTO:-0400
TZNAME:EDT
END:DAYLIGHT
END:VTIMEZONE
END:VCALENDAR